BEGIN:VCALENDAR
VERSION:2.0
PRODID:-//YST Conservatory - ECPv6.15.17//NONSGML v1.0//EN
CALSCALE:GREGORIAN
METHOD:PUBLISH
X-WR-CALNAME:YST Conservatory
X-ORIGINAL-URL:https://www.ystmusic.nus.edu.sg
X-WR-CALDESC:Events for YST Conservatory
REFRESH-INTERVAL;VALUE=DURATION:PT1H
X-Robots-Tag:noindex
X-PUBLISHED-TTL:PT1H
BEGIN:VTIMEZONE
TZID:Asia/Singapore
BEGIN:STANDARD
TZOFFSETFROM:+0800
TZOFFSETTO:+0800
TZNAME:+08
DTSTART:20180101T000000
END:STANDARD
END:VTIMEZONE
BEGIN:VEVENT
DTSTART;TZID=Asia/Singapore:20190706T190000
DTEND;TZID=Asia/Singapore:20190706T190000
DTSTAMP:20260423T031458
CREATED:20191021T021246Z
LAST-MODIFIED:20191021T021246Z
UID:6281-1562439600-1562439600@www.ystmusic.nus.edu.sg
SUMMARY:Band X Voices: CONSONANCE
DESCRIPTION:This programme is presented by Hwa Chong Voices & Hwa Chong Alumni Band. \nFor precise timings and more details\, please visit their ticketing website.
URL:https://www.ystmusic.nus.edu.sg/event/band-x-voices-consonance/
LOCATION:Conservatory Concert Hall\, Yong Siew Toh Conservatory of Music\, 3 Conservatory Drive\, 117376\, Singapore
ATTACH;FMTTYPE=image/jpeg:https://www.ystmusic.nus.edu.sg/wp-content/uploads/2019/10/070619-band-x-voices-consonance.jpg
END:VEVENT
BEGIN:VEVENT
DTSTART;TZID=Asia/Singapore:20190707T150000
DTEND;TZID=Asia/Singapore:20190707T150000
DTSTAMP:20260423T031458
CREATED:20191021T021204Z
LAST-MODIFIED:20191021T021204Z
UID:6282-1562511600-1562511600@www.ystmusic.nus.edu.sg
SUMMARY:Over Played - Play Over
DESCRIPTION:This programme is presented by Mus’Art Wind Orchestra. \nFor precise timings and more details\, please visit their website.
URL:https://www.ystmusic.nus.edu.sg/event/over-played-play-over/
LOCATION:Conservatory Concert Hall\, Yong Siew Toh Conservatory of Music\, 3 Conservatory Drive\, 117376\, Singapore
ATTACH;FMTTYPE=image/jpeg:https://www.ystmusic.nus.edu.sg/wp-content/uploads/2019/10/070719-over-played-play-over.jpg
END:VEVENT
BEGIN:VEVENT
DTSTART;TZID=Asia/Singapore:20190714T170000
DTEND;TZID=Asia/Singapore:20190714T170000
DTSTAMP:20260423T031458
CREATED:20191018T063913Z
LAST-MODIFIED:20191018T063913Z
UID:6283-1563123600-1563123600@www.ystmusic.nus.edu.sg
SUMMARY:10toONE
DESCRIPTION:This programme is presented by One Chamber Choir. \nFor precise timings and more details\, please visit their website.
URL:https://www.ystmusic.nus.edu.sg/event/10toone/
LOCATION:Conservatory Concert Hall\, Yong Siew Toh Conservatory of Music\, 3 Conservatory Drive\, 117376\, Singapore
ATTACH;FMTTYPE=image/jpeg:https://www.ystmusic.nus.edu.sg/wp-content/uploads/2019/10/071419-10toONE-e1571144532458.jpg
END:VEVENT
BEGIN:VEVENT
DTSTART;TZID=Asia/Singapore:20190717T090000
DTEND;TZID=Asia/Singapore:20190722T193000
DTSTAMP:20260423T031458
CREATED:20191021T015057Z
LAST-MODIFIED:20191021T023722Z
UID:6284-1563354000-1563823800@www.ystmusic.nus.edu.sg
SUMMARY:10th Flute Festival Singapore 2019
DESCRIPTION:This programme is presented by The Flute Studio. \nFor precise timings and more details\, please visit The Flute Studio website.
URL:https://www.ystmusic.nus.edu.sg/event/10th-flute-festival-singapore-2019-2/
LOCATION:Conservatory Building\, Yong Siew Toh Conservatory of Music\, 3 Conservatory Drive\, Singapore\, 117376\, Singapore
ATTACH;FMTTYPE=image/jpeg:https://www.ystmusic.nus.edu.sg/wp-content/uploads/2019/10/071719-10th-flute-festival--e1571144791724.jpg
END:VEVENT
BEGIN:VEVENT
DTSTART;TZID=Asia/Singapore:20190718T090000
DTEND;TZID=Asia/Singapore:20190718T193000
DTSTAMP:20260423T031458
CREATED:20191021T015057Z
LAST-MODIFIED:20191021T015057Z
UID:6801-1563440400-1563478200@www.ystmusic.nus.edu.sg
SUMMARY:10th Flute Festival Singapore 2019
DESCRIPTION:This programme is presented by The Flute Studio. \nFor precise timings and more details\, please visit The Flute Studio website.
URL:https://www.ystmusic.nus.edu.sg/event/10th-flute-festival-singapore-2019-2/2019-07-18/
LOCATION:Conservatory Building\, Yong Siew Toh Conservatory of Music\, 3 Conservatory Drive\, Singapore\, 117376\, Singapore
ATTACH;FMTTYPE=image/jpeg:https://www.ystmusic.nus.edu.sg/wp-content/uploads/2019/10/071719-10th-flute-festival--e1571144791724.jpg
END:VEVENT
BEGIN:VEVENT
DTSTART;TZID=Asia/Singapore:20190719T090000
DTEND;TZID=Asia/Singapore:20190719T193000
DTSTAMP:20260423T031458
CREATED:20191021T015057Z
LAST-MODIFIED:20191021T015057Z
UID:6802-1563526800-1563564600@www.ystmusic.nus.edu.sg
SUMMARY:10th Flute Festival Singapore 2019
DESCRIPTION:This programme is presented by The Flute Studio. \nFor precise timings and more details\, please visit The Flute Studio website.
URL:https://www.ystmusic.nus.edu.sg/event/10th-flute-festival-singapore-2019-2/2019-07-19/
LOCATION:Conservatory Building\, Yong Siew Toh Conservatory of Music\, 3 Conservatory Drive\, Singapore\, 117376\, Singapore
ATTACH;FMTTYPE=image/jpeg:https://www.ystmusic.nus.edu.sg/wp-content/uploads/2019/10/071719-10th-flute-festival--e1571144791724.jpg
END:VEVENT
BEGIN:VEVENT
DTSTART;TZID=Asia/Singapore:20190720T090000
DTEND;TZID=Asia/Singapore:20190720T193000
DTSTAMP:20260423T031458
CREATED:20191021T015057Z
LAST-MODIFIED:20191021T015057Z
UID:6803-1563613200-1563651000@www.ystmusic.nus.edu.sg
SUMMARY:10th Flute Festival Singapore 2019
DESCRIPTION:This programme is presented by The Flute Studio. \nFor precise timings and more details\, please visit The Flute Studio website.
URL:https://www.ystmusic.nus.edu.sg/event/10th-flute-festival-singapore-2019-2/2019-07-20/
LOCATION:Conservatory Building\, Yong Siew Toh Conservatory of Music\, 3 Conservatory Drive\, Singapore\, 117376\, Singapore
ATTACH;FMTTYPE=image/jpeg:https://www.ystmusic.nus.edu.sg/wp-content/uploads/2019/10/071719-10th-flute-festival--e1571144791724.jpg
END:VEVENT
BEGIN:VEVENT
DTSTART;TZID=Asia/Singapore:20190721T090000
DTEND;TZID=Asia/Singapore:20190721T193000
DTSTAMP:20260423T031458
CREATED:20191021T015057Z
LAST-MODIFIED:20191021T015057Z
UID:6804-1563699600-1563737400@www.ystmusic.nus.edu.sg
SUMMARY:10th Flute Festival Singapore 2019
DESCRIPTION:This programme is presented by The Flute Studio. \nFor precise timings and more details\, please visit The Flute Studio website.
URL:https://www.ystmusic.nus.edu.sg/event/10th-flute-festival-singapore-2019-2/2019-07-21/
LOCATION:Conservatory Building\, Yong Siew Toh Conservatory of Music\, 3 Conservatory Drive\, Singapore\, 117376\, Singapore
ATTACH;FMTTYPE=image/jpeg:https://www.ystmusic.nus.edu.sg/wp-content/uploads/2019/10/071719-10th-flute-festival--e1571144791724.jpg
END:VEVENT
BEGIN:VEVENT
DTSTART;TZID=Asia/Singapore:20190722T090000
DTEND;TZID=Asia/Singapore:20190722T193000
DTSTAMP:20260423T031458
CREATED:20191021T015057Z
LAST-MODIFIED:20191021T015057Z
UID:6805-1563786000-1563823800@www.ystmusic.nus.edu.sg
SUMMARY:10th Flute Festival Singapore 2019
DESCRIPTION:This programme is presented by The Flute Studio. \nFor precise timings and more details\, please visit The Flute Studio website.
URL:https://www.ystmusic.nus.edu.sg/event/10th-flute-festival-singapore-2019-2/2019-07-22/
LOCATION:Conservatory Building\, Yong Siew Toh Conservatory of Music\, 3 Conservatory Drive\, Singapore\, 117376\, Singapore
ATTACH;FMTTYPE=image/jpeg:https://www.ystmusic.nus.edu.sg/wp-content/uploads/2019/10/071719-10th-flute-festival--e1571144791724.jpg
END:VEVENT
BEGIN:VEVENT
DTSTART;TZID=Asia/Singapore:20190722T193000
DTEND;TZID=Asia/Singapore:20190722T193000
DTSTAMP:20260423T031458
CREATED:20191018T063800Z
LAST-MODIFIED:20191018T073144Z
UID:6285-1563823800-1563823800@www.ystmusic.nus.edu.sg
SUMMARY:10th Flute Festival Singapore 2019
DESCRIPTION:This programme is presented by The Flute Studio. \nFor precise timings and more details\, please visit The Flute Studio website. \n\n\n\n\n\n 
URL:https://www.ystmusic.nus.edu.sg/event/10th-flute-festival-singapore-2019/2019-07-22/
LOCATION:Conservatory Building\, Yong Siew Toh Conservatory of Music\, 3 Conservatory Drive\, Singapore\, 117376\, Singapore
ATTACH;FMTTYPE=image/jpeg:https://www.ystmusic.nus.edu.sg/wp-content/uploads/2019/10/071719-10th-flute-festival--e1571144791724.jpg
END:VEVENT
BEGIN:VEVENT
DTSTART;TZID=Asia/Singapore:20190722T193000
DTEND;TZID=Asia/Singapore:20190722T193000
DTSTAMP:20260423T031458
CREATED:20191021T015057Z
LAST-MODIFIED:20191021T015057Z
UID:6761-1563823800-1563823800@www.ystmusic.nus.edu.sg
SUMMARY:10th Flute Festival Singapore 2019
DESCRIPTION:This programme is presented by The Flute Studio. \nFor precise timings and more details\, please visit The Flute Studio website.
URL:https://www.ystmusic.nus.edu.sg/event/10th-flute-festival-singapore-2019-2/2019-07-22/
LOCATION:Conservatory Building\, Yong Siew Toh Conservatory of Music\, 3 Conservatory Drive\, Singapore\, 117376\, Singapore
ATTACH;FMTTYPE=image/jpeg:https://www.ystmusic.nus.edu.sg/wp-content/uploads/2019/10/071719-10th-flute-festival--e1571144791724.jpg
END:VEVENT
BEGIN:VEVENT
DTSTART;TZID=Asia/Singapore:20190724T130000
DTEND;TZID=Asia/Singapore:20190724T130000
DTSTAMP:20260423T031458
CREATED:20191018T063647Z
LAST-MODIFIED:20191018T063647Z
UID:6286-1563973200-1563973200@www.ystmusic.nus.edu.sg
SUMMARY:Skillsfuture Festival @ NUS
DESCRIPTION:The SkillsFuture Festival @ NUS brings together industry experts to explore Industry 4.0 technologies\, approaches\, challenges and the way forward. \nFind out more about the festival and all sessions here.
URL:https://www.ystmusic.nus.edu.sg/event/skillsfuture-festival-nus/
ATTACH;FMTTYPE=image/jpeg:https://www.ystmusic.nus.edu.sg/wp-content/uploads/2019/10/072419-skillsfuture-festival-1.jpg
END:VEVENT
BEGIN:VEVENT
DTSTART;TZID=Asia/Singapore:20190725T090000
DTEND;TZID=Asia/Singapore:20190725T090000
DTSTAMP:20260423T031458
CREATED:20191018T062857Z
LAST-MODIFIED:20191018T062857Z
UID:6289-1564045200-1564045200@www.ystmusic.nus.edu.sg
SUMMARY:Singapore International Low Brass Academy
DESCRIPTION:This programme is presented by The Singapore Low Brass Academy. \nFor precise timings and more details\, please visit their website.
URL:https://www.ystmusic.nus.edu.sg/event/singapore-international-low-brass-academy-4/
LOCATION:Conservatory Building\, Yong Siew Toh Conservatory of Music\, 3 Conservatory Drive\, Singapore\, 117376\, Singapore
ATTACH;FMTTYPE=image/jpeg:https://www.ystmusic.nus.edu.sg/wp-content/uploads/2019/10/072519-singapore-international-low-brass-academy.jpg
END:VEVENT
BEGIN:VEVENT
DTSTART;TZID=Asia/Singapore:20190725T090000
DTEND;TZID=Asia/Singapore:20190725T090000
DTSTAMP:20260423T031458
CREATED:20191021T015522Z
LAST-MODIFIED:20191021T015522Z
UID:6287-1564045200-1564045200@www.ystmusic.nus.edu.sg
SUMMARY:Asia Arts Festival
DESCRIPTION:This programme is presented by The Asia Arts Festival. \nFor precise timings and more details\, please visit The Asia Arts Festival website. \n\n\n\n\n\n 
URL:https://www.ystmusic.nus.edu.sg/event/asia-arts-festival-2/2019-07-25/
LOCATION:Conservatory Concert Hall\, Yong Siew Toh Conservatory of Music\, 3 Conservatory Drive\, 117376\, Singapore
ATTACH;FMTTYPE=image/jpeg:https://www.ystmusic.nus.edu.sg/wp-content/uploads/2019/10/072519-asia-arts-festival.jpg
END:VEVENT
BEGIN:VEVENT
DTSTART;TZID=Asia/Singapore:20190726T090000
DTEND;TZID=Asia/Singapore:20190726T090000
DTSTAMP:20260423T031458
CREATED:20191018T062749Z
LAST-MODIFIED:20191018T062749Z
UID:6290-1564131600-1564131600@www.ystmusic.nus.edu.sg
SUMMARY:Singapore International Low Brass Academy
DESCRIPTION:This programme is presented by The Singapore Low Brass Academy. \nFor precise timings and more details\, please visit their website.
URL:https://www.ystmusic.nus.edu.sg/event/singapore-international-low-brass-academy-3/
LOCATION:Conservatory Building\, Yong Siew Toh Conservatory of Music\, 3 Conservatory Drive\, Singapore\, 117376\, Singapore
ATTACH;FMTTYPE=image/jpeg:https://www.ystmusic.nus.edu.sg/wp-content/uploads/2019/10/072619-singapore-international-low-brass-academy.jpg
END:VEVENT
BEGIN:VEVENT
DTSTART;TZID=Asia/Singapore:20190727T090000
DTEND;TZID=Asia/Singapore:20190727T090000
DTSTAMP:20260423T031458
CREATED:20191018T062714Z
LAST-MODIFIED:20191018T062714Z
UID:6291-1564218000-1564218000@www.ystmusic.nus.edu.sg
SUMMARY:Singapore International Low Brass Academy
DESCRIPTION:This programme is presented by The Singapore Low Brass Academy. \nFor precise timings and more details\, please visit their website.
URL:https://www.ystmusic.nus.edu.sg/event/singapore-international-low-brass-academy-2/
LOCATION:Conservatory Building\, Yong Siew Toh Conservatory of Music\, 3 Conservatory Drive\, Singapore\, 117376\, Singapore
ATTACH;FMTTYPE=image/jpeg:https://www.ystmusic.nus.edu.sg/wp-content/uploads/2019/10/072719-singapore-international-low-brass-academy.jpg
END:VEVENT
BEGIN:VEVENT
DTSTART;TZID=Asia/Singapore:20190728T090000
DTEND;TZID=Asia/Singapore:20190728T090000
DTSTAMP:20260423T031458
CREATED:20191018T062555Z
LAST-MODIFIED:20191018T062555Z
UID:6292-1564304400-1564304400@www.ystmusic.nus.edu.sg
SUMMARY:Singapore International Low Brass Academy
DESCRIPTION:This programme is presented by The Singapore Low Brass Academy. \nFor precise timings and more details\, please visit their website.
URL:https://www.ystmusic.nus.edu.sg/event/singapore-international-low-brass-academy/
LOCATION:Conservatory Building\, Yong Siew Toh Conservatory of Music\, 3 Conservatory Drive\, Singapore\, 117376\, Singapore
ATTACH;FMTTYPE=image/jpeg:https://www.ystmusic.nus.edu.sg/wp-content/uploads/2019/10/072819-singapore-international-low-brass-academy-e1571144717175.jpg
END:VEVENT
BEGIN:VEVENT
DTSTART;TZID=Asia/Singapore:20190728T220000
DTEND;TZID=Asia/Singapore:20190728T220000
DTSTAMP:20260423T031458
CREATED:20191018T063312Z
LAST-MODIFIED:20191018T063338Z
UID:6288-1564351200-1564351200@www.ystmusic.nus.edu.sg
SUMMARY:Asia Arts Festival
DESCRIPTION:This programme is presented by The Asia Arts Festival. \nFor precise timings and more details\, please visit The Asia Arts Festival website.
URL:https://www.ystmusic.nus.edu.sg/event/asia-arts-festival/2019-07-28/
LOCATION:Conservatory Concert Hall\, Yong Siew Toh Conservatory of Music\, 3 Conservatory Drive\, 117376\, Singapore
ATTACH;FMTTYPE=image/jpeg:https://www.ystmusic.nus.edu.sg/wp-content/uploads/2019/10/072519-asia-arts-festival.jpg
END:VEVENT
BEGIN:VEVENT
DTSTART;TZID=Asia/Singapore:20190728T220000
DTEND;TZID=Asia/Singapore:20190728T220000
DTSTAMP:20260423T031458
CREATED:20191021T015522Z
LAST-MODIFIED:20191021T015522Z
UID:6764-1564351200-1564351200@www.ystmusic.nus.edu.sg
SUMMARY:Asia Arts Festival
DESCRIPTION:This programme is presented by The Asia Arts Festival. \nFor precise timings and more details\, please visit The Asia Arts Festival website. \n\n\n\n\n\n 
URL:https://www.ystmusic.nus.edu.sg/event/asia-arts-festival-2/2019-07-28/
LOCATION:Conservatory Concert Hall\, Yong Siew Toh Conservatory of Music\, 3 Conservatory Drive\, 117376\, Singapore
ATTACH;FMTTYPE=image/jpeg:https://www.ystmusic.nus.edu.sg/wp-content/uploads/2019/10/072519-asia-arts-festival.jpg
END:VEVENT
BEGIN:VEVENT
DTSTART;TZID=Asia/Singapore:20190729T100000
DTEND;TZID=Asia/Singapore:20190729T100000
DTSTAMP:20260423T031458
CREATED:20191018T062341Z
LAST-MODIFIED:20191018T062341Z
UID:6293-1564394400-1564394400@www.ystmusic.nus.edu.sg
SUMMARY:12th International Choral Festival Orientale Concentus
DESCRIPTION:This programme is presented by Orientale Concentus. \nFor precise timings and more details\, please visit the Festival page.
URL:https://www.ystmusic.nus.edu.sg/event/12th-international-choral-festival-orientale-concentus-3/
LOCATION:Conservatory Building\, Yong Siew Toh Conservatory of Music\, 3 Conservatory Drive\, Singapore\, 117376\, Singapore
ATTACH;FMTTYPE=image/jpeg:https://www.ystmusic.nus.edu.sg/wp-content/uploads/2019/10/072919-12th-international-chorale-festival-orientale-concentus-e1571144671541.jpg
END:VEVENT
BEGIN:VEVENT
DTSTART;TZID=Asia/Singapore:20190730T100000
DTEND;TZID=Asia/Singapore:20190730T100000
DTSTAMP:20260423T031458
CREATED:20191018T062244Z
LAST-MODIFIED:20191018T062244Z
UID:6294-1564480800-1564480800@www.ystmusic.nus.edu.sg
SUMMARY:12th International Choral Festival Orientale Concentus
DESCRIPTION:This programme is presented by Orientale Concentus. \nFor precise timings and more details\, please visit the Festival page.
URL:https://www.ystmusic.nus.edu.sg/event/12th-international-choral-festival-orientale-concentus-2/
LOCATION:Conservatory Building\, Yong Siew Toh Conservatory of Music\, 3 Conservatory Drive\, Singapore\, 117376\, Singapore
ATTACH;FMTTYPE=image/jpeg:https://www.ystmusic.nus.edu.sg/wp-content/uploads/2019/10/073019-12th-international-choral-festival-orientale-concentus-e1571144631302.jpg
END:VEVENT
BEGIN:VEVENT
DTSTART;TZID=Asia/Singapore:20190731T100000
DTEND;TZID=Asia/Singapore:20190731T100000
DTSTAMP:20260423T031458
CREATED:20191018T060220Z
LAST-MODIFIED:20191018T060220Z
UID:6295-1564567200-1564567200@www.ystmusic.nus.edu.sg
SUMMARY:12th International Choral Festival Orientale Concentus
DESCRIPTION:This programme is presented by Orientale Concentus. \nFor precise timings and more details\, please visit the Festival page.
URL:https://www.ystmusic.nus.edu.sg/event/12th-international-choral-festival-orientale-concentus/
LOCATION:Conservatory Building\, Yong Siew Toh Conservatory of Music\, 3 Conservatory Drive\, Singapore\, 117376\, Singapore
ATTACH;FMTTYPE=image/jpeg:https://www.ystmusic.nus.edu.sg/wp-content/uploads/2019/10/073119-12th-international-choral-festival-orientale-concentus-e1571144579562.jpg
END:VEVENT
END:VCALENDAR