BEGIN:VCALENDAR
VERSION:2.0
PRODID:-//YST Conservatory - ECPv6.15.17//NONSGML v1.0//EN
CALSCALE:GREGORIAN
METHOD:PUBLISH
X-WR-CALNAME:YST Conservatory
X-ORIGINAL-URL:https://www.ystmusic.nus.edu.sg
X-WR-CALDESC:Events for YST Conservatory
REFRESH-INTERVAL;VALUE=DURATION:PT1H
X-Robots-Tag:noindex
X-PUBLISHED-TTL:PT1H
BEGIN:VTIMEZONE
TZID:Asia/Singapore
BEGIN:STANDARD
TZOFFSETFROM:+0800
TZOFFSETTO:+0800
TZNAME:+08
DTSTART:20180101T000000
END:STANDARD
END:VTIMEZONE
BEGIN:VEVENT
DTSTART;TZID=Asia/Singapore:20190601T110000
DTEND;TZID=Asia/Singapore:20190601T110000
DTSTAMP:20260423T051853
CREATED:20191021T020956Z
LAST-MODIFIED:20191021T020956Z
UID:6576-1559386800-1559386800@www.ystmusic.nus.edu.sg
SUMMARY:Singapore Violin Festival
DESCRIPTION:This programme is presented by the Singapore Violin Festival. \nFor precise timings and more details\, please visit the Singapore Violin Festival website.
URL:https://www.ystmusic.nus.edu.sg/event/singapore-violin-festival-8/
LOCATION:Conservatory Building\, Yong Siew Toh Conservatory of Music\, 3 Conservatory Drive\, Singapore\, 117376\, Singapore
ATTACH;FMTTYPE=image/jpeg:https://www.ystmusic.nus.edu.sg/wp-content/uploads/2019/10/060119-singapore-violin-festival-e1571379788483.jpg
END:VEVENT
BEGIN:VEVENT
DTSTART;TZID=Asia/Singapore:20190602T110000
DTEND;TZID=Asia/Singapore:20190602T110000
DTSTAMP:20260423T051853
CREATED:20191021T020920Z
LAST-MODIFIED:20191021T020920Z
UID:6577-1559473200-1559473200@www.ystmusic.nus.edu.sg
SUMMARY:Singapore Violin Festival
DESCRIPTION:This programme is presented by the Singapore Violin Festival. \nFor precise timings and more details\, please visit the Singapore Violin Festival website.
URL:https://www.ystmusic.nus.edu.sg/event/singapore-violin-festival-7/
LOCATION:Conservatory Building\, Yong Siew Toh Conservatory of Music\, 3 Conservatory Drive\, Singapore\, 117376\, Singapore
ATTACH;FMTTYPE=image/png:https://www.ystmusic.nus.edu.sg/wp-content/uploads/2019/10/060219-singapore-violin-festival-e1571379825621.png
END:VEVENT
BEGIN:VEVENT
DTSTART;TZID=Asia/Singapore:20190603T110000
DTEND;TZID=Asia/Singapore:20190603T110000
DTSTAMP:20260423T051853
CREATED:20191021T020858Z
LAST-MODIFIED:20191021T020858Z
UID:6578-1559559600-1559559600@www.ystmusic.nus.edu.sg
SUMMARY:Singapore Violin Festival
DESCRIPTION:This programme is presented by the Singapore Violin Festival. \nFor precise timings and more details\, please visit the Singapore Violin Festival website.
URL:https://www.ystmusic.nus.edu.sg/event/singapore-violin-festival-6/
LOCATION:Conservatory Building\, Yong Siew Toh Conservatory of Music\, 3 Conservatory Drive\, Singapore\, 117376\, Singapore
ATTACH;FMTTYPE=image/jpeg:https://www.ystmusic.nus.edu.sg/wp-content/uploads/2019/10/060319-singapore-violin-festival-e1571379885465.jpg
END:VEVENT
BEGIN:VEVENT
DTSTART;TZID=Asia/Singapore:20190604T110000
DTEND;TZID=Asia/Singapore:20190604T110000
DTSTAMP:20260423T051853
CREATED:20191021T020826Z
LAST-MODIFIED:20191021T020826Z
UID:6579-1559646000-1559646000@www.ystmusic.nus.edu.sg
SUMMARY:Singapore Violin Festival
DESCRIPTION:This programme is presented by the Singapore Violin Festival. \nFor precise timings and more details\, please visit the Singapore Violin Festival website.
URL:https://www.ystmusic.nus.edu.sg/event/singapore-violin-festival-5/
LOCATION:Conservatory Building\, Yong Siew Toh Conservatory of Music\, 3 Conservatory Drive\, Singapore\, 117376\, Singapore
ATTACH;FMTTYPE=image/png:https://www.ystmusic.nus.edu.sg/wp-content/uploads/2019/10/E-20190604-Singapore-Violin-Festival.png
END:VEVENT
BEGIN:VEVENT
DTSTART;TZID=Asia/Singapore:20190605T110000
DTEND;TZID=Asia/Singapore:20190605T110000
DTSTAMP:20260423T051853
CREATED:20191021T020746Z
LAST-MODIFIED:20191021T020746Z
UID:6580-1559732400-1559732400@www.ystmusic.nus.edu.sg
SUMMARY:Singapore Violin Festival
DESCRIPTION:This programme is presented by the Singapore Violin Festival. \nFor precise timings and more details\, please visit the Singapore Violin Festival website.
URL:https://www.ystmusic.nus.edu.sg/event/singapore-violin-festival-4/
LOCATION:Conservatory Building\, Yong Siew Toh Conservatory of Music\, 3 Conservatory Drive\, Singapore\, 117376\, Singapore
ATTACH;FMTTYPE=image/jpeg:https://www.ystmusic.nus.edu.sg/wp-content/uploads/2019/10/E-20190605-Singapore-Violin-Festival.jpg
END:VEVENT
BEGIN:VEVENT
DTSTART;TZID=Asia/Singapore:20190606T110000
DTEND;TZID=Asia/Singapore:20190606T110000
DTSTAMP:20260423T051853
CREATED:20191021T020625Z
LAST-MODIFIED:20191021T020625Z
UID:6581-1559818800-1559818800@www.ystmusic.nus.edu.sg
SUMMARY:Singapore Violin Festival
DESCRIPTION:This programme is presented by the Singapore Violin Festival. \nFor precise timings and more details\, please visit the Singapore Violin Festival website.
URL:https://www.ystmusic.nus.edu.sg/event/singapore-violin-festival-3/
LOCATION:Conservatory Building\, Yong Siew Toh Conservatory of Music\, 3 Conservatory Drive\, Singapore\, 117376\, Singapore
ATTACH;FMTTYPE=image/png:https://www.ystmusic.nus.edu.sg/wp-content/uploads/2019/10/060619-singapore-violin-festival-e1571379974922.png
END:VEVENT
BEGIN:VEVENT
DTSTART;TZID=Asia/Singapore:20190607T110000
DTEND;TZID=Asia/Singapore:20190607T110000
DTSTAMP:20260423T051853
CREATED:20191021T020535Z
LAST-MODIFIED:20191021T020535Z
UID:6582-1559905200-1559905200@www.ystmusic.nus.edu.sg
SUMMARY:Singapore Violin Festival
DESCRIPTION:This programme is presented by the Singapore Violin Festival. \nFor precise timings and more details\, please visit the Singapore Violin Festival website.
URL:https://www.ystmusic.nus.edu.sg/event/singapore-violin-festival-2/
LOCATION:Conservatory Building\, Yong Siew Toh Conservatory of Music\, 3 Conservatory Drive\, Singapore\, 117376\, Singapore
ATTACH;FMTTYPE=image/jpeg:https://www.ystmusic.nus.edu.sg/wp-content/uploads/2019/10/060719-singapore-violin-festival-e1571380010765.jpg
END:VEVENT
BEGIN:VEVENT
DTSTART;TZID=Asia/Singapore:20190608T110000
DTEND;TZID=Asia/Singapore:20190608T110000
DTSTAMP:20260423T051853
CREATED:20191021T020449Z
LAST-MODIFIED:20191021T020449Z
UID:6583-1559991600-1559991600@www.ystmusic.nus.edu.sg
SUMMARY:Singapore Violin Festival
DESCRIPTION:This programme is presented by the Singapore Violin Festival. \nFor precise timings and more details\, please visit the Singapore Violin Festival website.
URL:https://www.ystmusic.nus.edu.sg/event/singapore-violin-festival/
LOCATION:Conservatory Building\, Yong Siew Toh Conservatory of Music\, 3 Conservatory Drive\, Singapore\, 117376\, Singapore
ATTACH;FMTTYPE=image/jpeg:https://www.ystmusic.nus.edu.sg/wp-content/uploads/2019/10/060819-singapore-violin-festival.jpg
END:VEVENT
BEGIN:VEVENT
DTSTART;TZID=Asia/Singapore:20190609T193000
DTEND;TZID=Asia/Singapore:20190609T193000
DTSTAMP:20260423T051853
CREATED:20191021T020332Z
LAST-MODIFIED:20191021T020332Z
UID:6584-1560108600-1560108600@www.ystmusic.nus.edu.sg
SUMMARY:Evanescence
DESCRIPTION:This programme is presented by Ye Haoting. \n\n\n\n\nLearn more
URL:https://www.ystmusic.nus.edu.sg/event/evanescence/
LOCATION:Steven Baxter Recital Studio\, Yong Siew Toh Conservatory of Music\, 3 Conservatory Drive\, 117376\, Singapore
ATTACH;FMTTYPE=image/jpeg:https://www.ystmusic.nus.edu.sg/wp-content/uploads/2019/10/E-20190609-Evanescence.jpg
END:VEVENT
BEGIN:VEVENT
DTSTART;TZID=Asia/Singapore:20190610T130000
DTEND;TZID=Asia/Singapore:20190610T130000
DTSTAMP:20260423T051853
CREATED:20191021T020215Z
LAST-MODIFIED:20191021T020215Z
UID:6585-1560171600-1560171600@www.ystmusic.nus.edu.sg
SUMMARY:The Music Studios Musical Arts Holiday Camp
DESCRIPTION:This programme is presented by The Music Studios. \nFor precise timings and more details\, please visit The Music Studios’ website.
URL:https://www.ystmusic.nus.edu.sg/event/the-music-studios-musical-arts-holiday-camp-3/
END:VEVENT
BEGIN:VEVENT
DTSTART;TZID=Asia/Singapore:20190611T130000
DTEND;TZID=Asia/Singapore:20190611T130000
DTSTAMP:20260423T051853
CREATED:20191021T015951Z
LAST-MODIFIED:20191021T015951Z
UID:6586-1560258000-1560258000@www.ystmusic.nus.edu.sg
SUMMARY:The Music Studios Musical Arts Holiday Camp
DESCRIPTION:This programme is presented by The Music Studios. \nFor precise timings and more details\, please visit The Music Studios’ website.
URL:https://www.ystmusic.nus.edu.sg/event/the-music-studios-musical-arts-holiday-camp-2/
ATTACH;FMTTYPE=image/jpeg:https://www.ystmusic.nus.edu.sg/wp-content/uploads/2019/10/E-061119-the-music-studios-musical-arts-holiday-camp.jpg
END:VEVENT
BEGIN:VEVENT
DTSTART;TZID=Asia/Singapore:20190612T130000
DTEND;TZID=Asia/Singapore:20190612T130000
DTSTAMP:20260423T051853
CREATED:20191021T015718Z
LAST-MODIFIED:20191021T015718Z
UID:6587-1560344400-1560344400@www.ystmusic.nus.edu.sg
SUMMARY:The Music Studios Musical Arts Holiday Camp
DESCRIPTION:This programme is presented by The Music Studios. \nFor precise timings and more details\, please visit The Music Studios’ website.
URL:https://www.ystmusic.nus.edu.sg/event/the-music-studios-musical-arts-holiday-camp/
ATTACH;FMTTYPE=image/jpeg:https://www.ystmusic.nus.edu.sg/wp-content/uploads/2019/10/061219-the-music-studios-musical-arts-holiday-camp-e1571380125753.jpg
END:VEVENT
BEGIN:VEVENT
DTSTART;TZID=Asia/Singapore:20190614T190000
DTEND;TZID=Asia/Singapore:20190614T190000
DTSTAMP:20260423T051853
CREATED:20191021T015822Z
LAST-MODIFIED:20191021T015822Z
UID:6588-1560538800-1560538800@www.ystmusic.nus.edu.sg
SUMMARY:Music Ensemble Evening
DESCRIPTION:This programme is presented by the Australian International School. \nFor ticketing & more details\, please visit Eventbrite website.
URL:https://www.ystmusic.nus.edu.sg/event/music-ensemble-evening/
LOCATION:Conservatory Concert Hall\, Yong Siew Toh Conservatory of Music\, 3 Conservatory Drive\, 117376\, Singapore
ATTACH;FMTTYPE=image/jpeg:https://www.ystmusic.nus.edu.sg/wp-content/uploads/2019/10/E-20190614-Music-Ensemble-Evening.jpg
END:VEVENT
BEGIN:VEVENT
DTSTART;TZID=Asia/Singapore:20190630T193000
DTEND;TZID=Asia/Singapore:20190630T193000
DTSTAMP:20260423T051853
CREATED:20191018T025115Z
LAST-MODIFIED:20191018T025115Z
UID:6589-1561923000-1561923000@www.ystmusic.nus.edu.sg
SUMMARY:Piano Concertos In Perspective II
DESCRIPTION:This programme is presented by Josephine Koh Piano Academy. \nFor precise timings and more details\, please visit this website.
URL:https://www.ystmusic.nus.edu.sg/event/piano-concertos-in-perspective-ii/
LOCATION:Conservatory Concert Hall\, Yong Siew Toh Conservatory of Music\, 3 Conservatory Drive\, 117376\, Singapore
END:VEVENT
END:VCALENDAR