BEGIN:VCALENDAR
VERSION:2.0
PRODID:-//YST Conservatory - ECPv6.15.17//NONSGML v1.0//EN
CALSCALE:GREGORIAN
METHOD:PUBLISH
X-WR-CALNAME:YST Conservatory
X-ORIGINAL-URL:https://www.ystmusic.nus.edu.sg
X-WR-CALDESC:Events for YST Conservatory
REFRESH-INTERVAL;VALUE=DURATION:PT1H
X-Robots-Tag:noindex
X-PUBLISHED-TTL:PT1H
BEGIN:VTIMEZONE
TZID:Asia/Singapore
BEGIN:STANDARD
TZOFFSETFROM:+0800
TZOFFSETTO:+0800
TZNAME:+08
DTSTART:20180101T000000
END:STANDARD
END:VTIMEZONE
BEGIN:VEVENT
DTSTART;TZID=Asia/Singapore:20190804T190000
DTEND;TZID=Asia/Singapore:20190804T190000
DTSTAMP:20260423T040317
CREATED:20191017T084805Z
LAST-MODIFIED:20191017T090554Z
UID:6339-1564945200-1564945200@www.ystmusic.nus.edu.sg
SUMMARY:Zeitmusik
DESCRIPTION:This programme is presented by National Junior College. \nFor precise timings and more details\, please contact National Junior College.
URL:https://www.ystmusic.nus.edu.sg/event/zeitmusik/
LOCATION:Conservatory Orchestra Hall\, Yong Siew Toh Conservatory of Music\, 3 Conservatory Drive\, Singapore\, 117376\, Singapore
ATTACH;FMTTYPE=image/jpeg:https://www.ystmusic.nus.edu.sg/wp-content/uploads/2019/10/20190804-zeitmusik.jpg
END:VEVENT
END:VCALENDAR