BEGIN:VCALENDAR
VERSION:2.0
PRODID:-//YST Conservatory - ECPv6.15.17//NONSGML v1.0//EN
CALSCALE:GREGORIAN
METHOD:PUBLISH
X-WR-CALNAME:YST Conservatory
X-ORIGINAL-URL:https://www.ystmusic.nus.edu.sg
X-WR-CALDESC:Events for YST Conservatory
REFRESH-INTERVAL;VALUE=DURATION:PT1H
X-Robots-Tag:noindex
X-PUBLISHED-TTL:PT1H
BEGIN:VTIMEZONE
TZID:Asia/Singapore
BEGIN:STANDARD
TZOFFSETFROM:+0800
TZOFFSETTO:+0800
TZNAME:+08
DTSTART:20190101T000000
END:STANDARD
END:VTIMEZONE
BEGIN:VEVENT
DTSTART;TZID=Asia/Singapore:20200222T100000
DTEND;TZID=Asia/Singapore:20200222T120000
DTSTAMP:20260423T062907
CREATED:20200205T052050Z
LAST-MODIFIED:20200214T061925Z
UID:9863-1582365600-1582372800@www.ystmusic.nus.edu.sg
SUMMARY:[CANCELLED] YST Piano Academy 2020 (Day 2): Thomas Hecht Masterclass
DESCRIPTION:In view of current health and travel advisories\, this event has been cancelled. We apologise for any inconvenience caused. \nFor more information on the status of YST events\, please visit: bit.ly/yst-updates \nPROGRAMME BEETHOVEN Sonata in C Major Op. 2 No. 3 I. Allegro con brio \nMADELEINE GIRAUDEAU \nHAYDN Sonata in C Major Hob. XVI: 50 I. Allegro \nBRILLIANT STANLEY \nABOUT THIS EVENT  The YST Piano Academy 2020 presents young talented pianists from ages 16 to 18 in open masterclasses with Conservatory piano faculty\, Prof Thomas Hecht and Assoc Prof Albert Tiu\, culminating with a finale concert at the end of the 3-day Academy. \nTICKETING INFORMATION • Free admission.  • All event information is correct at time of print.  • Out of respect for other concertgoers\, no children under 6 years of age will be allowed admission.
URL:https://www.ystmusic.nus.edu.sg/event/yst-piano-academy-2020-day-2-thomas-hecht-masterclass/
LOCATION:Conservatory Orchestra Hall\, Yong Siew Toh Conservatory of Music\, 3 Conservatory Drive\, Singapore\, 117376\, Singapore
ATTACH;FMTTYPE=image/jpeg:https://www.ystmusic.nus.edu.sg/wp-content/uploads/2020/02/thomas-MC-2.jpg
END:VEVENT
END:VCALENDAR