BEGIN:VCALENDAR
VERSION:2.0
PRODID:-//YST Conservatory - ECPv6.15.17//NONSGML v1.0//EN
CALSCALE:GREGORIAN
METHOD:PUBLISH
X-WR-CALNAME:YST Conservatory
X-ORIGINAL-URL:https://www.ystmusic.nus.edu.sg
X-WR-CALDESC:Events for YST Conservatory
REFRESH-INTERVAL;VALUE=DURATION:PT1H
X-Robots-Tag:noindex
X-PUBLISHED-TTL:PT1H
BEGIN:VTIMEZONE
TZID:Asia/Singapore
BEGIN:STANDARD
TZOFFSETFROM:+0800
TZOFFSETTO:+0800
TZNAME:+08
DTSTART:20190101T000000
END:STANDARD
END:VTIMEZONE
BEGIN:VEVENT
DTSTART;TZID=Asia/Singapore:20200223T180000
DTEND;TZID=Asia/Singapore:20200223T180000
DTSTAMP:20260417T134201
CREATED:20200102T091419Z
LAST-MODIFIED:20200214T062641Z
UID:8490-1582480800-1582480800@www.ystmusic.nus.edu.sg
SUMMARY:[CANCELLED] YST Piano Academy 2020: Finale Concert
DESCRIPTION:In view of current health and travel advisories\, this event has been cancelled. We apologise for any inconvenience caused. \nFor more information on the status of YST events\, please visit: bit.ly/yst-updates \nPROGRAMME \nBACHPrelude & Fugue No. 21 in B flat Major BWV 866 \nJESSIE KHOMARA \nHAYDNSonata in C major Hob. XVI: 50I. Allegro \nLOI YI XUAN \nKABALEVSKYSonatina in C major Op. 13 No. 1I. Allegro assai e lusigando \nMAXWELL THOMAS ALLEGO FITHIAN \nMENDELSSOHNRondo Capriccioso Op. 14 \nSUN YINING \nBEETHOVENSonata No.7 in D Major Op. 10 No. 3I. Presto \nTANG ZHI FENG ADRIAN \nBACHPrelude & Fugue No. 5 in D Major\, BWV 850 \nVANIA CELESTINA DITRA  \nCHOPINEtude\, Op.25\, No.11. (“Winter Wind”) \nMADELEINE GIRAUDEAU \nMOZARTSonata No. 9 in D Major\, K. 311III. Rondo: Allegro \nJOLIE LOH \nDEBUSSYFrom Préludes\, Book IIXII. Feux d’artifice \nTAN SHEN EN JOSEPH \nGERSHWINFrom Three PreludesI. Bb major \nMICHAEL MANUEL HALIM \n CHOPINPolonaise in A Flat Major Op. 53 \nBRILLIANT STANLEY \nABOUT THE EVENT The YST Piano Academy 2020 presents young talented pianists from ages 16 to 18 in public masterclasses with the Conservatory piano faculty\, Prof Thomas Hecht and Assoc Prof Albert Tiu\, culminating with a finale concert at the end of the three-day Academy. \nTICKETING INFORMATION • Free admission. • All event information is correct at time of print. • Out of respect for other concertgoers\, no children under 6 years of age will be allowed admission.
URL:https://www.ystmusic.nus.edu.sg/event/ypa-2020-finale/
LOCATION:Conservatory Concert Hall\, Yong Siew Toh Conservatory of Music\, 3 Conservatory Drive\, 117376\, Singapore
ATTACH;FMTTYPE=image/jpeg:https://www.ystmusic.nus.edu.sg/wp-content/uploads/2020/01/YPA.jpg
END:VEVENT
END:VCALENDAR