BEGIN:VCALENDAR
VERSION:2.0
PRODID:-//YST Conservatory - ECPv6.15.17//NONSGML v1.0//EN
CALSCALE:GREGORIAN
METHOD:PUBLISH
X-WR-CALNAME:YST Conservatory
X-ORIGINAL-URL:https://www.ystmusic.nus.edu.sg
X-WR-CALDESC:Events for YST Conservatory
REFRESH-INTERVAL;VALUE=DURATION:PT1H
X-Robots-Tag:noindex
X-PUBLISHED-TTL:PT1H
BEGIN:VTIMEZONE
TZID:Asia/Singapore
BEGIN:STANDARD
TZOFFSETFROM:+0800
TZOFFSETTO:+0800
TZNAME:+08
DTSTART:20190101T000000
END:STANDARD
END:VTIMEZONE
BEGIN:VEVENT
DTSTART;TZID=Asia/Singapore:20200307T150000
DTEND;TZID=Asia/Singapore:20200307T150000
DTSTAMP:20260415T221612
CREATED:20200102T091435Z
LAST-MODIFIED:20200306T041423Z
UID:8499-1583593200-1583593200@www.ystmusic.nus.edu.sg
SUMMARY:[INTERNAL] Young Composers Academy 2020 - Closing Concert
DESCRIPTION:In view of current health and travel advisories\, this event will no longer be open to the general public.  \nInternal events will only be open to YST faculty\, staff and students. \nFor more information on the status of YST events\, please visit: bit.ly/yst-updates \nPROGRAMME \nIZHARUL HAQSihir  \nALICIA CHANDRA Theme and Variation \nCHAN HAO LIMe Growing Up (featuring my parents)\, in 2 Movements \nXIAO WENLanding  \nCALISTA LIAWFleeting Thoughts \nWANG ZHENGHAOBecoming \nDANIEL CHIASpirits  \nHANS NEDDYANTO TANDJUNGBipolar \nDIETER MACKKlingende Fäden. View Programme Notes here. \nABOUT THIS EVENTWitness the world premieres of new works by participants from the YST Young Composers’ Academy (YCA). In its fourth year running\, the Academy nurtures budding composers in Singapore between the ages of 15 to 21. Over a period of two months\, the Academy offers participants seminar instruction in contemporary composition and instrumental techniques as well as individual mentoring for the development of their new works.  \nTICKETING INFORMATION • Free admission. • All event information is correct at time of print. • Out of respect for other concertgoers\, no children under 6 years of age will be allowed admission.
URL:https://www.ystmusic.nus.edu.sg/event/yca-2020-closing-concert/
LOCATION:Conservatory Orchestra Hall\, Yong Siew Toh Conservatory of Music\, 3 Conservatory Drive\, Singapore\, 117376\, Singapore
ATTACH;FMTTYPE=image/jpeg:https://www.ystmusic.nus.edu.sg/wp-content/uploads/2020/01/yca.jpg
END:VEVENT
END:VCALENDAR