BEGIN:VCALENDAR
VERSION:2.0
PRODID:-//YST Conservatory - ECPv6.15.17//NONSGML v1.0//EN
CALSCALE:GREGORIAN
METHOD:PUBLISH
X-WR-CALNAME:YST Conservatory
X-ORIGINAL-URL:https://www.ystmusic.nus.edu.sg
X-WR-CALDESC:Events for YST Conservatory
REFRESH-INTERVAL;VALUE=DURATION:PT1H
X-Robots-Tag:noindex
X-PUBLISHED-TTL:PT1H
BEGIN:VTIMEZONE
TZID:Asia/Singapore
BEGIN:STANDARD
TZOFFSETFROM:+0800
TZOFFSETTO:+0800
TZNAME:+08
DTSTART:20240101T000000
END:STANDARD
END:VTIMEZONE
BEGIN:VEVENT
DTSTART;TZID=Asia/Singapore:20250409T121000
DTEND;TZID=Asia/Singapore:20250409T131000
DTSTAMP:20260420T065829
CREATED:20241210T105124Z
LAST-MODIFIED:20250407T074425Z
UID:37146-1744200600-1744204200@www.ystmusic.nus.edu.sg
SUMMARY:Wednesday Noon Recital
DESCRIPTION:Our Wednesday Noon Recital series presents Conservatory students with a platform to perform before their peers and the general public. These weekly recitals feature a variety of solo and ensemble performances across different majors. \n  \nPROGRAMME \nGABRIEL FAURÉViolin Sonata No. 1\, Op.13I. Allegro molto \nWU TSAI-JOU (BMus4)\, violinCHERIE KHOR\, piano \nSERGEY PROKOFIEVSonata for 2 Violins\, Op.56I. Andante cantabileII. Allegro \nSYU CHENG-YI (BMus2)\, violinLIN YI-HSUAN (BMus1)\, violin \nJACQUES OFFENBACHDuos for Two Cellos\, Op.54 No.2 in E MajorI. Allegro \nCAO HUIYING (BMus4)\, celloCHRISTOPHER MUI\, cello \nFRANZ STRAUSSFantasie\, Op.2 \nCHAI MEI QIN (BMus4)\, hornNICHOLAS LOH\, piano \nSERGEI RACHMANINOFFCello Sonata\, Op.19III. Andante \nCHEN PEI-YI (BMus3)\, celloLIU JIA\, piano \nALEXANDER LEBEDEVConcerto No.1 \nHUANG SHAO-WEI (BMus3)\, tromboneGABRIEL HOE\, piano \nIMPROVISATIONYST Jazz Bar (drinks included) \nHAYDEN CHUNG-HEY BUTT (BMus2)\, clarinetLAI CHONG (BMus2)\, tubaLOW KIM VEN (BMus2)\, bass tromboneLIU YIDUO (BMus2)\, cello \nTICKETING INFORMATION \nAdmission is free and on a first-come\, first-served basis. Out of respect for the participants and other spectators\, no children under 6 years of age will be allowed admission. \nBe the first to hear about our upcoming events! Join our mailing list here.
URL:https://www.ystmusic.nus.edu.sg/event/wednesday-noon-recital-20250409/
LOCATION:YST Concert Hall\, Yong Siew Toh Conservatory of Music\, 3 Conservatory Drive\, Singapore\, 117376\, Singapore
ATTACH;FMTTYPE=image/jpeg:https://www.ystmusic.nus.edu.sg/wp-content/uploads/2024/12/Web_Wed-Noon-Recital-scaled.jpg
END:VEVENT
END:VCALENDAR