BEGIN:VCALENDAR
VERSION:2.0
PRODID:-//YST Conservatory - ECPv6.15.17//NONSGML v1.0//EN
CALSCALE:GREGORIAN
METHOD:PUBLISH
X-WR-CALNAME:YST Conservatory
X-ORIGINAL-URL:https://www.ystmusic.nus.edu.sg
X-WR-CALDESC:Events for YST Conservatory
REFRESH-INTERVAL;VALUE=DURATION:PT1H
X-Robots-Tag:noindex
X-PUBLISHED-TTL:PT1H
BEGIN:VTIMEZONE
TZID:Asia/Singapore
BEGIN:STANDARD
TZOFFSETFROM:+0800
TZOFFSETTO:+0800
TZNAME:+08
DTSTART:20240101T000000
END:STANDARD
END:VTIMEZONE
BEGIN:VEVENT
DTSTART;TZID=Asia/Singapore:20250205T121000
DTEND;TZID=Asia/Singapore:20250205T131000
DTSTAMP:20260419T150416
CREATED:20241209T152223Z
LAST-MODIFIED:20250203T085004Z
UID:37113-1738757400-1738761000@www.ystmusic.nus.edu.sg
SUMMARY:Wednesday Noon Recital
DESCRIPTION:Our Wednesday Noon Recital series presents Conservatory students with a platform to perform before their peers and the general public. These weekly recitals feature a variety of solo and ensemble performances across different majors. \n  \nPROGRAMME \nJOHANN SEBASTIAN BACHCello Suite No. 6 in D major BWV1012I. Prélude \nLIU YOU-YU (BMus3)\, cello \n\n\n\n\n\n\nVEGAR VÅRDAL\n\nTrippar fra Åseral\n \n\n\n\n\nHALLVARD ØRSAL\n\n\n\n\n\n\n\n\n\n\nPols\n\n\n\n \nTARJEI ROMTVEITKvenneslåtten\nLI JIAQI (BMus4)\, violin \nFRANZ LISZTFantasie und Fuge über B-A-C-H \nLIANG RAY-HENG (BMus4)\, piano \nYORK BOWENViola Sonata No. 1 Op. 18I. Allegro Moderato \nCHER ZHI XIAN TIMOTHY (BMus1)\, violaCHERIE KHOR\, piano \nCARL MARIA VON WEBERConcertino for Horn and Orchestra in E-flat Major\, Op. 45\, J. 188 \nYEN SHIH-HSIN (BMus3)\, hornNICHOLAS LOH\, piano \n  \nTICKETING INFORMATION \nAdmission is free and on a first-come\, first-served basis. Out of respect for the participants and other spectators\, no children under 6 years of age will be allowed admission. \nBe the first to hear about our upcoming events! Join our mailing list here.
URL:https://www.ystmusic.nus.edu.sg/event/wednesday-noon-recital-20250205/
LOCATION:YST Concert Hall\, Yong Siew Toh Conservatory of Music\, 3 Conservatory Drive\, Singapore\, 117376\, Singapore
ATTACH;FMTTYPE=image/jpeg:https://www.ystmusic.nus.edu.sg/wp-content/uploads/2024/12/Web_Wed-Noon-Recital-scaled.jpg
END:VEVENT
END:VCALENDAR