BEGIN:VCALENDAR
VERSION:2.0
PRODID:-//YST Conservatory - ECPv6.15.17//NONSGML v1.0//EN
CALSCALE:GREGORIAN
METHOD:PUBLISH
X-WR-CALNAME:YST Conservatory
X-ORIGINAL-URL:https://www.ystmusic.nus.edu.sg
X-WR-CALDESC:Events for YST Conservatory
REFRESH-INTERVAL;VALUE=DURATION:PT1H
X-Robots-Tag:noindex
X-PUBLISHED-TTL:PT1H
BEGIN:VTIMEZONE
TZID:Asia/Singapore
BEGIN:STANDARD
TZOFFSETFROM:+0800
TZOFFSETTO:+0800
TZNAME:+08
DTSTART:20180101T000000
END:STANDARD
END:VTIMEZONE
BEGIN:VEVENT
DTSTART;TZID=Asia/Singapore:20190123T121000
DTEND;TZID=Asia/Singapore:20190123T121000
DTSTAMP:20260415T161928
CREATED:20191120T053851Z
LAST-MODIFIED:20191120T053916Z
UID:7226-1548245400-1548245400@www.ystmusic.nus.edu.sg
SUMMARY:Wednesday Noon Recital
DESCRIPTION:PROGRAMME  \nMENDELSSOHNViolin Concerto in E minor\, Op. 64I. Allegro molto appassionato \nTSENG CHIEH-AN (B.MUS2) violinGE XIAOZHE piano \nBRAHMSClarinet Sonata No. 2I. Allegro AmabileIII. Allegretto Grazio \nDENG YUNG-PING (B.MUS4) clarinetBEATRICE LIN piano \nPAGANININel cor piu non mi sento \nZHANG YUCHEN (B.MUS2) violinGE XIAOZHE piano \nBARBERFrom Hermit Songs\, Op. 29 \nThe Crucifixion \nThe Monk and His Cat \nJIN QIUYAXU (B.MUS1) sopranoCHOI HYE-SEON piano \n  \nABOUT THE EVENTThe Wednesday Noon Recitals offer short student performances from the full range of Conservatory activity\, an ideal introduction to the world of classical music. \n  \nTICKETING INFORMATION• Free admission.• All event information is correct at time of print.• Out of respect for other concertgoers\, no children under 6 years of age will be allowed admission. \nPhoto credits: Yong Junyi
URL:https://www.ystmusic.nus.edu.sg/event/wednesday-noon-recital-16/
LOCATION:Conservatory Concert Hall\, Yong Siew Toh Conservatory of Music\, 3 Conservatory Drive\, 117376\, Singapore
ATTACH;FMTTYPE=image/jpeg:https://www.ystmusic.nus.edu.sg/wp-content/uploads/2019/11/013019-wed-noon-recital.jpg
END:VEVENT
END:VCALENDAR