BEGIN:VCALENDAR
VERSION:2.0
PRODID:-//YST Conservatory - ECPv6.15.17//NONSGML v1.0//EN
CALSCALE:GREGORIAN
METHOD:PUBLISH
X-WR-CALNAME:YST Conservatory
X-ORIGINAL-URL:https://www.ystmusic.nus.edu.sg
X-WR-CALDESC:Events for YST Conservatory
REFRESH-INTERVAL;VALUE=DURATION:PT1H
X-Robots-Tag:noindex
X-PUBLISHED-TTL:PT1H
BEGIN:VTIMEZONE
TZID:Asia/Singapore
BEGIN:STANDARD
TZOFFSETFROM:+0800
TZOFFSETTO:+0800
TZNAME:+08
DTSTART:20180101T000000
END:STANDARD
END:VTIMEZONE
BEGIN:VEVENT
DTSTART;TZID=Asia/Singapore:20191115T121000
DTEND;TZID=Asia/Singapore:20191115T170000
DTSTAMP:20260424T230532
CREATED:20191115T010621Z
LAST-MODIFIED:20191115T010841Z
UID:7369-1573819800-1573837200@www.ystmusic.nus.edu.sg
SUMMARY:Wednesday Noon Recital
DESCRIPTION:PROGRAMME \nBEETHOVENPiano Trio in E-flat major\, WoO. 38I. Allegro moderato II. Scherzo (Allegro ma non troppo) \nMARCO GIOVANNI (B.Mus3) pianoPOH KAI WEN (B.Mus3) cello (applied secondary)HSU HAO-NING (B.Mus3) violin \nBRAHMSCello Sonata in F major No. 2 Op. 99I. Allegro vivace \nYOON JAE WON (B.Mus1) celloLIU JIA piano \nDEBUSSYString Quartet in G minor\, Op. 10I. Animé et très décidé \nASAMI WADA (B.Mus3) violinLAU JOEY (B.Mus3) violinCHANG JEH JAKIN (B.Mus2) violinLEE HYEWAN (B.Mus3) cello \nILYSIA TAN (B.Mus2)I Wanna Build a House of Cotton Candy \nSEMEN ZHERNOVYKH (B.Mus2) violinLI PEI-YING (B.Mus3) violaYOON JAE WON (B.Mus1) celloMAN GEGE (B.Mus2) double bass \nCLIFF TAN (B.Mus1)Piano Quintet \nSEMEN ZHERNOVYKH (B.Mus2) violinELICIA NEO (B.Mus1) violinLI PEI-YING (B.Mus3) violaYOON JAE WON (B.Mus1) celloYANG TING-TING (B.Mus3) piano \nABOUT THIS EVENTThe Wednesday Noon Recitals offer short student performances from the full range of Conservatory activity\, an ideal introduction to the world of classical music. \nTICKETING INFORMATION• Free admission.• All event information is correct at time of print.• Out of respect for other concertgoers\, no children under 6 years of age will be allowed admission.
URL:https://www.ystmusic.nus.edu.sg/event/wednesday-noon-recital-15/
LOCATION:Conservatory Concert Hall\, Yong Siew Toh Conservatory of Music\, 3 Conservatory Drive\, 117376\, Singapore
ATTACH;FMTTYPE=image/jpeg:https://www.ystmusic.nus.edu.sg/wp-content/uploads/2019/11/022019-wed-noon-recital.jpg
END:VEVENT
END:VCALENDAR