BEGIN:VCALENDAR
VERSION:2.0
PRODID:-//YST Conservatory - ECPv6.15.17//NONSGML v1.0//EN
CALSCALE:GREGORIAN
METHOD:PUBLISH
X-WR-CALNAME:YST Conservatory
X-ORIGINAL-URL:https://www.ystmusic.nus.edu.sg
X-WR-CALDESC:Events for YST Conservatory
REFRESH-INTERVAL;VALUE=DURATION:PT1H
X-Robots-Tag:noindex
X-PUBLISHED-TTL:PT1H
BEGIN:VTIMEZONE
TZID:Asia/Singapore
BEGIN:STANDARD
TZOFFSETFROM:+0800
TZOFFSETTO:+0800
TZNAME:+08
DTSTART:20190101T000000
END:STANDARD
END:VTIMEZONE
BEGIN:VEVENT
DTSTART;TZID=Asia/Singapore:20200309T193000
DTEND;TZID=Asia/Singapore:20200309T213000
DTSTAMP:20260418T065500
CREATED:20200123T121958Z
LAST-MODIFIED:20200210T031321Z
UID:9726-1583782200-1583789400@www.ystmusic.nus.edu.sg
SUMMARY:[CANCELLED] Visiting Artist Series: Midori Violin Masterclass
DESCRIPTION:In view of current health and travel advisories\, this event has been cancelled. We apologise for any inconvenience caused. \nPROGRAMME Programme to be announced. \nABOUT THE EVENT Midori presents a violin masterclass with students from the Conservatory. \nIn partnership with:  \nTICKETING INFORMATION  • Free admission.  • All event information is correct at time of print.  • Out of respect for other concertgoers\, no children under 6 years of age will be allowed admission.
URL:https://www.ystmusic.nus.edu.sg/event/visiting-artist-series-midori-violin-masterclass/
LOCATION:Conservatory Orchestra Hall\, Yong Siew Toh Conservatory of Music\, 3 Conservatory Drive\, Singapore\, 117376\, Singapore
ATTACH;FMTTYPE=image/jpeg:https://www.ystmusic.nus.edu.sg/wp-content/uploads/2020/01/midori.jpg
END:VEVENT
END:VCALENDAR