BEGIN:VCALENDAR
VERSION:2.0
PRODID:-//YST Conservatory - ECPv6.15.17//NONSGML v1.0//EN
CALSCALE:GREGORIAN
METHOD:PUBLISH
X-WR-CALNAME:YST Conservatory
X-ORIGINAL-URL:https://www.ystmusic.nus.edu.sg
X-WR-CALDESC:Events for YST Conservatory
REFRESH-INTERVAL;VALUE=DURATION:PT1H
X-Robots-Tag:noindex
X-PUBLISHED-TTL:PT1H
BEGIN:VTIMEZONE
TZID:Asia/Singapore
BEGIN:STANDARD
TZOFFSETFROM:+0800
TZOFFSETTO:+0800
TZNAME:+08
DTSTART:20180101T000000
END:STANDARD
END:VTIMEZONE
BEGIN:VEVENT
DTSTART;TZID=Asia/Singapore:20190313T171500
DTEND;TZID=Asia/Singapore:20190313T171500
DTSTAMP:20260424T120217
CREATED:20191120T093043Z
LAST-MODIFIED:20191120T093053Z
UID:7480-1552497300-1552497300@www.ystmusic.nus.edu.sg
SUMMARY:Visiting Artist Series: Lim Tze Chian Open Chamber Masterclass
DESCRIPTION:PROGRAMME \nHAYDNString Quartet in F minor Op. 20 No. 5 \nSHUGO HAYASHI\, violinJOELLE CHIAM YAN LIN\, violinHUANG WANXINYI\, violaERKIN SULTANOV\, cello \n  \nDOHNANYISerenade in C major Op. 10 \nELIZABETH IULIANA BASOFF-DARSKAIA\, violinHO QIAN HUI\, violaLIU LINGYU\, cello \nABOUT THE ARTIST \n \nSingapore born Chian Lim was awarded a scholarship to study viola at the Royal College of Music in London\, where he was a prize-winning student. During his time there he studied chamber music with the Chilingirian Quartet and members of the Juilliard and Cleveland Quartets. \nAfter beginning his career in the Singapore Symphony Orchestra\, Chian returned to the UK and began what quickly became a successful period working as a freelance viola player. As an active chamber musician\, he plays regularly with various groups including the Marias Ensemble and was a member of the Dowdeswell Piano Quartet. Chian has broadcast with the Endymion Ensemble and Lontano on BBC Radio 3 and has also performed at the Wigmore Hall on numerous occasions with various chamber ensembles including the Guildhall Strings. \nHe was Principal Viola with Glyndebourne on Tour Orchestra and has played Guest Principal Viola with City of London Sinfonia\, Royal Ballet Sinfonia and Royal Philharmonic Orchestra. He plays regularly with English Chamber Orchestra and the Academy of St Martin in the Fields with whom he has recorded and performed worldwide with esteemed musicians such as Julian Rachlin\, Joshua Bell\, Gil Shaham and Murray Perahia. He joined the Royal Philharmonic Orchestra in 2014 and was elected onto its Board of Directors in 2016. \nTICKETING INFORMATION \n• Free admission.• All event information is correct at time of print.• Out of respect for other concertgoers\, no children under 6 years of age will be allowed admission.
URL:https://www.ystmusic.nus.edu.sg/event/visiting-artist-series-lim-tze-chian-open-chamber-masterclass/
LOCATION:Conservatory Orchestra Hall\, Yong Siew Toh Conservatory of Music\, 3 Conservatory Drive\, Singapore\, 117376\, Singapore
ATTACH;FMTTYPE=image/jpeg:https://www.ystmusic.nus.edu.sg/wp-content/uploads/2019/11/031319-vas-lim-tze-chian-open-chamber-masterclass-e1644547656735.jpg
END:VEVENT
END:VCALENDAR