BEGIN:VCALENDAR
VERSION:2.0
PRODID:-//YST Conservatory - ECPv6.15.17//NONSGML v1.0//EN
CALSCALE:GREGORIAN
METHOD:PUBLISH
X-WR-CALNAME:YST Conservatory
X-ORIGINAL-URL:https://www.ystmusic.nus.edu.sg
X-WR-CALDESC:Events for YST Conservatory
REFRESH-INTERVAL;VALUE=DURATION:PT1H
X-Robots-Tag:noindex
X-PUBLISHED-TTL:PT1H
BEGIN:VTIMEZONE
TZID:Asia/Singapore
BEGIN:STANDARD
TZOFFSETFROM:+0800
TZOFFSETTO:+0800
TZNAME:+08
DTSTART:20180101T000000
END:STANDARD
END:VTIMEZONE
BEGIN:VEVENT
DTSTART;TZID=Asia/Singapore:20190829T160000
DTEND;TZID=Asia/Singapore:20190829T160000
DTSTAMP:20260420T100508
CREATED:20191017T075009Z
LAST-MODIFIED:20191017T075158Z
UID:6363-1567094400-1567094400@www.ystmusic.nus.edu.sg
SUMMARY:Visiting Artist Series: Daejin Kim Piano Masterclass
DESCRIPTION:PROGRAMME \nCHOPINBarcarolle\, Op. 60 \nKOH KAI JIE (B.MUS3)\, piano \nRACHMANINOVEtude Tableau in E-Flat minor\, Op. 39 No. 5 \nSETH TAN (B.MUS3)\, piano \nGRIFFESRoman Sketches\, Op. 7 \nIII. The Fountain of Acqua Paola \nMERVYN LEE (B.MUS4)\, piano \nTICKETING INFORMATION\n• Free admission.• All event information is correct at time of print.• Out of respect for other concertgoers\, no children under 6 years of age will be allowed admission. \n\n\n\n\n\n 
URL:https://www.ystmusic.nus.edu.sg/event/visiting-artist-series-daejin-kim-piano-masterclass/
LOCATION:Steven Baxter Recital Studio\, Yong Siew Toh Conservatory of Music\, 3 Conservatory Drive\, 117376\, Singapore
ATTACH;FMTTYPE=image/jpeg:https://www.ystmusic.nus.edu.sg/wp-content/uploads/2019/10/082919-vas-daejin-kim-piano-masterclass-e1571142010925.jpg
END:VEVENT
END:VCALENDAR