BEGIN:VCALENDAR
VERSION:2.0
PRODID:-//YST Conservatory - ECPv6.15.17//NONSGML v1.0//EN
CALSCALE:GREGORIAN
METHOD:PUBLISH
X-WR-CALNAME:YST Conservatory
X-ORIGINAL-URL:https://www.ystmusic.nus.edu.sg
X-WR-CALDESC:Events for YST Conservatory
REFRESH-INTERVAL;VALUE=DURATION:PT1H
X-Robots-Tag:noindex
X-PUBLISHED-TTL:PT1H
BEGIN:VTIMEZONE
TZID:Asia/Singapore
BEGIN:STANDARD
TZOFFSETFROM:+0800
TZOFFSETTO:+0800
TZNAME:+08
DTSTART:20220101T000000
END:STANDARD
END:VTIMEZONE
BEGIN:VEVENT
DTSTART;TZID=Asia/Singapore:20230919T173000
DTEND;TZID=Asia/Singapore:20230919T193000
DTSTAMP:20260419T033418
CREATED:20230714T094416Z
LAST-MODIFIED:20230914T074433Z
UID:29414-1695144600-1695151800@www.ystmusic.nus.edu.sg
SUMMARY:Virtual Masterclass: Hannah Roberts Cello Masterclass
DESCRIPTION:PROGRAMME \nSERGEI RACHMANINOFFSonata for Cello and Piano in G minor\, Op. 19I. Lento – Allegro moderato \nCAO HUIYING (B.Mus3)\, celloLIU JIA\, piano \nJOHANNES BRAHMSCello Sonata No. 1 in E minor\, Op. 38I. Allegro non troppo \nLIU YIDUO (B.Mus1)\, celloLIU JIA\, piano \nEDWARD ELGARCello Concerto in E minor\, Op. 85I. Adagio – Moderato \nSHERZOD BAKHTIYOROV (B.Mus2)\, celloBEATRICE LIN\, piano \nABOUT THIS EVENT \nHannah Roberts is one of the outstanding ‘cellists of her generation and was privileged to have studied with Susanna Roberts\, Jennifer Ward Clarke\, Raphael Wallfisch\, William Pleeth and Ralph Kirshbaum. Having won prizes in numerous prestigious competitions and awards such as Shell LSO\, BBC Young Musician\, Jacqueline Du Pre Memorial and Pierre Fournier awards Hannah has gone on to give many concerto performances with leading orchestras\, including the London Mozart Players\, LSO\, BBC Concert Orchestra\, Halle and Manchester Camerata (where she is principal cellist)\, also making frequent broadcasts for BBC radio and recoding for ASV. Equally important to her activities as soloist\, chamber musician\, and principal cellist\, Hannah is a committed and internationally sought after teacher. She currently holds a professorship at the RNCM in Manchester and has been recently appointed as the Jacqueline du Pré Professor of Cello at RAM. \nTICKETING INFORMATION \nFree Admission \nThis event will be livestreamed on the Conservatory’s YouTube channel. Follow and subscribe to be notified of upcoming streams. \n* All event information is correct at time of print. \nSubscribe to YST’s mailing list.
URL:https://www.ystmusic.nus.edu.sg/event/virtual-masterclass-hannah-roberts-cello-masterclass/
LOCATION:Youtube\, Singapore
ATTACH;FMTTYPE=image/jpeg:https://www.ystmusic.nus.edu.sg/wp-content/uploads/2023/07/Hannah-Roberts-e1691767349686.jpeg
END:VEVENT
END:VCALENDAR