BEGIN:VCALENDAR
VERSION:2.0
PRODID:-//YST Conservatory - ECPv6.15.17//NONSGML v1.0//EN
CALSCALE:GREGORIAN
METHOD:PUBLISH
X-WR-CALNAME:YST Conservatory
X-ORIGINAL-URL:https://www.ystmusic.nus.edu.sg
X-WR-CALDESC:Events for YST Conservatory
REFRESH-INTERVAL;VALUE=DURATION:PT1H
X-Robots-Tag:noindex
X-PUBLISHED-TTL:PT1H
BEGIN:VTIMEZONE
TZID:Asia/Singapore
BEGIN:STANDARD
TZOFFSETFROM:+0800
TZOFFSETTO:+0800
TZNAME:+08
DTSTART:20180101T000000
END:STANDARD
END:VTIMEZONE
BEGIN:VEVENT
DTSTART;TZID=Asia/Singapore:20190306T120000
DTEND;TZID=Asia/Singapore:20190306T120000
DTSTAMP:20260419T133012
CREATED:20191120T082945Z
LAST-MODIFIED:20191120T083024Z
UID:7469-1551873600-1551873600@www.ystmusic.nus.edu.sg
SUMMARY:Tanglin Trust School: Lunchtime Concert
DESCRIPTION:PROGRAMME \nBRAHMSTrio\, Op.40II. Scherzo. Allegro \nNATALIE KOH SU TING\, violinBRYAN BENEDICT CHONG SHI YANG\, hornKOH KAI JIE\, piano \nLUDWIG THUILLESextet for Piano and Wind Quintet\, Op.6I. Allegro moderato \nTEO SHAO MING\, fluteGRACE TAN SEE VON\, oboeCHIANG YUNG-YUAN\, clarinetGOH MOK CHEONG\, bassoonMINDY CHANG\, hornYANG TING-TING\, piano \n  \nABOUT THIS EVENTStudents from the YST Conservatory perform a programme of chamber music at the Tanglin Trust School. \nIn collaboration with: \n \nTICKETING INFORMATION• Free admission.• All event information is correct at time of print.• For enquiries\, pleaase visit : www.tts.edu.sg/contact-us
URL:https://www.ystmusic.nus.edu.sg/event/tanglin-trust-school-lunchtime-concert/
ATTACH;FMTTYPE=image/jpeg:https://www.ystmusic.nus.edu.sg/wp-content/uploads/2019/11/030619-tanglin-trust-school-lunchtime-concert.jpg
END:VEVENT
END:VCALENDAR