BEGIN:VCALENDAR
VERSION:2.0
PRODID:-//YST Conservatory - ECPv6.15.17//NONSGML v1.0//EN
CALSCALE:GREGORIAN
METHOD:PUBLISH
X-WR-CALNAME:YST Conservatory
X-ORIGINAL-URL:https://www.ystmusic.nus.edu.sg
X-WR-CALDESC:Events for YST Conservatory
REFRESH-INTERVAL;VALUE=DURATION:PT1H
X-Robots-Tag:noindex
X-PUBLISHED-TTL:PT1H
BEGIN:VTIMEZONE
TZID:Asia/Singapore
BEGIN:STANDARD
TZOFFSETFROM:+0800
TZOFFSETTO:+0800
TZNAME:+08
DTSTART:20180101T000000
END:STANDARD
END:VTIMEZONE
BEGIN:VEVENT
DTSTART;TZID=Asia/Singapore:20191113T133000
DTEND;TZID=Asia/Singapore:20191113T133000
DTSTAMP:20260425T022956
CREATED:20191016T022300Z
LAST-MODIFIED:20191122T011308Z
UID:5804-1573651800-1573651800@www.ystmusic.nus.edu.sg
SUMMARY:SUTD Presents: Lunchtime Performance
DESCRIPTION:PROGRAMME  \nNICOLA FERROSunset \nAXEL JØRGENSENRomance \nOLEKSII UBOZHENKO\, tromboneLIM YAN\, piano \nTRYGVE MADSEN Sonata\, Op. 34 I. Andante sostenuto \nTAN SHUN ZHONG\, tubaLIM YAN\, piano \nAXEL JØRGENSENQuintet for Brass Instruments \nI. ModeratoII. IntermezzoIII. Andante CantabileIV. Finale \nGABSY BRASS QUINTETZHOU BINGHAN (B.MUS2)\, trumpetNUTTAKAMON SUPATTRANONT (B.MUS1)\, trumpetHSIEH YUNG-SHAN (B.MUS2)\, hornOLEKSII UBOZHENKO (B.MUS 3)\, tromboneTAN SHUN ZHONG (B.MUS2)\, tuba \nMore to be announced. \n \nABOUT THIS EVENT\nAs part of the Conservatory’s efforts to engage with the community\, a lunchtime concert will be presented at the Singapore University of Technology and Design\, home of a thriving arts & creative community. \nTICKETING INFORMATION\n• Free admission.• All event information is correct at time of print.
URL:https://www.ystmusic.nus.edu.sg/event/sutd-presents-lunchtime-performance/
LOCATION:Singapore University of Technology and Design – Campus Centre\, 8 Somapah Road\, 487372\, Singapore
ATTACH;FMTTYPE=image/jpeg:https://www.ystmusic.nus.edu.sg/wp-content/uploads/2019/10/111319-sutd.jpg
END:VEVENT
END:VCALENDAR