BEGIN:VCALENDAR
VERSION:2.0
PRODID:-//YST Conservatory - ECPv6.15.17//NONSGML v1.0//EN
CALSCALE:GREGORIAN
METHOD:PUBLISH
X-WR-CALNAME:YST Conservatory
X-ORIGINAL-URL:https://www.ystmusic.nus.edu.sg
X-WR-CALDESC:Events for YST Conservatory
REFRESH-INTERVAL;VALUE=DURATION:PT1H
X-Robots-Tag:noindex
X-PUBLISHED-TTL:PT1H
BEGIN:VTIMEZONE
TZID:Asia/Singapore
BEGIN:STANDARD
TZOFFSETFROM:+0800
TZOFFSETTO:+0800
TZNAME:+08
DTSTART:20190101T000000
END:STANDARD
END:VTIMEZONE
BEGIN:VEVENT
DTSTART;TZID=Asia/Singapore:20200425T130000
DTEND;TZID=Asia/Singapore:20200425T170000
DTSTAMP:20260419T162949
CREATED:20200102T091511Z
LAST-MODIFIED:20200325T091745Z
UID:8562-1587819600-1587834000@www.ystmusic.nus.edu.sg
SUMMARY:[INTERNAL ASSESSMENT] Student Recitals: Viola
DESCRIPTION:In view of current health and travel advisories\, this event will no longer be open to the general public. \nInternal Assessments will only be open to the jury panel for the purpose of performance assessments. \nFor more information on the status of YST events\, please visit: bit.ly/yst-updates \nPROGRAMME Programme to be announced. \n1:00PMCHIU YI-RU\, viola (Junior Recital) \n1:30PMCHEN YU-HSUAN\, viola  \n3:00PM KUO YUN-TING\, viola  \n4:00PM LI PEI-YING\, viola \nABOUT THIS EVENT As part of their graduation requirements for music performance\, 3rd year and 4th year YST Conservatory viola students present concert recitals. \nTICKETING INFORMATION • Free admission • All event information is correct at time of print. • Out of respect for other concertgoers\, no children under 6 years of age will be allowed admission.
URL:https://www.ystmusic.nus.edu.sg/event/sr-viola-250420/
LOCATION:Conservatory Concert Hall\, Yong Siew Toh Conservatory of Music\, 3 Conservatory Drive\, 117376\, Singapore
ATTACH;FMTTYPE=image/jpeg:https://www.ystmusic.nus.edu.sg/wp-content/uploads/2020/03/low-strings-1500-x-722.jpg
END:VEVENT
END:VCALENDAR