BEGIN:VCALENDAR
VERSION:2.0
PRODID:-//YST Conservatory - ECPv6.15.17//NONSGML v1.0//EN
CALSCALE:GREGORIAN
METHOD:PUBLISH
X-WR-CALNAME:YST Conservatory
X-ORIGINAL-URL:https://www.ystmusic.nus.edu.sg
X-WR-CALDESC:Events for YST Conservatory
REFRESH-INTERVAL;VALUE=DURATION:PT1H
X-Robots-Tag:noindex
X-PUBLISHED-TTL:PT1H
BEGIN:VTIMEZONE
TZID:Asia/Singapore
BEGIN:STANDARD
TZOFFSETFROM:+0800
TZOFFSETTO:+0800
TZNAME:+08
DTSTART:20190101T000000
END:STANDARD
END:VTIMEZONE
BEGIN:VEVENT
DTSTART;TZID=Asia/Singapore:20200423T130000
DTEND;TZID=Asia/Singapore:20200423T151500
DTSTAMP:20260422T031612
CREATED:20200220T114631Z
LAST-MODIFIED:20200325T091511Z
UID:10324-1587646800-1587654900@www.ystmusic.nus.edu.sg
SUMMARY:[INTERNAL ASSESSMENT] Senior Recitals: Piano
DESCRIPTION:In view of current health and travel advisories\, this event will no longer be open to the general public. \nInternal Assessments will only be open to the jury panel for the purpose of performance assessments. \nFor more information on the status of YST events\, please visit: bit.ly/yst-updates \nPROGRAMME \n1:00pm POH KAI WEN\, piano \n2:15PMSHAYNA YAP YING-SHUEH\, piano \nABOUT THIS EVENTAs part of their graduation requirements for music performance\, 4th year YST Conservatory students present an hour long recitals. \nTICKETING INFORMATION • Free admission • All event information is correct at time of print. • Out of respect for other concertgoers\, no children under 6 years of age will be allowed admission. \n\n\n\n\n\n\n\n  \n 
URL:https://www.ystmusic.nus.edu.sg/event/sr-piano-230420/
LOCATION:Conservatory Concert Hall\, Yong Siew Toh Conservatory of Music\, 3 Conservatory Drive\, 117376\, Singapore
ATTACH;FMTTYPE=image/jpeg:https://www.ystmusic.nus.edu.sg/wp-content/uploads/2020/02/piano-SR-1500-x-722-2.jpg
END:VEVENT
END:VCALENDAR