BEGIN:VCALENDAR
VERSION:2.0
PRODID:-//YST Conservatory - ECPv6.15.17//NONSGML v1.0//EN
CALSCALE:GREGORIAN
METHOD:PUBLISH
X-WR-CALNAME:YST Conservatory
X-ORIGINAL-URL:https://www.ystmusic.nus.edu.sg
X-WR-CALDESC:Events for YST Conservatory
REFRESH-INTERVAL;VALUE=DURATION:PT1H
X-Robots-Tag:noindex
X-PUBLISHED-TTL:PT1H
BEGIN:VTIMEZONE
TZID:Asia/Singapore
BEGIN:STANDARD
TZOFFSETFROM:+0800
TZOFFSETTO:+0800
TZNAME:+08
DTSTART:20190101T000000
END:STANDARD
END:VTIMEZONE
BEGIN:VEVENT
DTSTART;TZID=Asia/Singapore:20200429T190000
DTEND;TZID=Asia/Singapore:20200429T210000
DTSTAMP:20260421T071849
CREATED:20200304T050726Z
LAST-MODIFIED:20200325T092034Z
UID:10449-1588186800-1588194000@www.ystmusic.nus.edu.sg
SUMMARY:[INTERNAL ASSESSMENT] Senior Recitals: Double Bass
DESCRIPTION:In view of current health and travel advisories\, this event will no longer be open to the general public. \nInternal Assessments will only be open to the jury panel for the purpose of performance assessments. \nFor more information on the status of YST events\, please visit: bit.ly/yst-updates \nPROGRAMME \n7:00PM TU XINYUN\, double bass \n 8:00PM SONG JUN JIE EDMUND\, double bass \nABOUT THIS EVENTAs part of their graduation requirements for music performance\, 4th year YST Conservatory double bassists each presents an hour long recital. \nTICKETING INFORMATION• Free admission • All event information is correct at time of print. • Out of respect for other concertgoers\, no children under 6 years of age will be allowed admission.
URL:https://www.ystmusic.nus.edu.sg/event/sr-double-bass-290420/
LOCATION:Conservatory Concert Hall\, Yong Siew Toh Conservatory of Music\, 3 Conservatory Drive\, 117376\, Singapore
ATTACH;FMTTYPE=image/jpeg:https://www.ystmusic.nus.edu.sg/wp-content/uploads/2020/03/low-strings-1500-x-722.jpg
END:VEVENT
END:VCALENDAR