BEGIN:VCALENDAR
VERSION:2.0
PRODID:-//YST Conservatory - ECPv6.15.17//NONSGML v1.0//EN
CALSCALE:GREGORIAN
METHOD:PUBLISH
X-WR-CALNAME:YST Conservatory
X-ORIGINAL-URL:https://www.ystmusic.nus.edu.sg
X-WR-CALDESC:Events for YST Conservatory
REFRESH-INTERVAL;VALUE=DURATION:PT1H
X-Robots-Tag:noindex
X-PUBLISHED-TTL:PT1H
BEGIN:VTIMEZONE
TZID:Asia/Singapore
BEGIN:STANDARD
TZOFFSETFROM:+0800
TZOFFSETTO:+0800
TZNAME:+08
DTSTART:20180101T000000
END:STANDARD
END:VTIMEZONE
BEGIN:VEVENT
DTSTART;TZID=Asia/Singapore:20190413T210000
DTEND;TZID=Asia/Singapore:20190413T210000
DTSTAMP:20260425T232408
CREATED:20191111T032451Z
LAST-MODIFIED:20191111T032451Z
UID:7098-1555189200-1555189200@www.ystmusic.nus.edu.sg
SUMMARY:Sounding Now Festival 2019: Open Spaces
DESCRIPTION:TY CONSTANT\, percussion (YST) PETER EDWARDS\, electronics (YST)BANI HAYKAL\, electronics (YST)MARTIN JAGGI\, electric cello (YST)MAX RIEFER\, percussion (UiTM & YST)AYA SEKINE\, keyboardNUR SUHAILI BINTE SAFARI WIJAYA\, vocalLAI YU TONG\, electric guitarPATRICK STADLER\, saxophone (Landman/Stadler Duo)GEOFFREY LANDMAN\, saxophone (Landman/Stadler Duo)PROGRAMME \nA 60-minute improvisation in the spacious YST foyer lobby with acoustic instruments\, electronics\, and live video. \nABOUT THIS EVENT \nSounding Now is a festival of contemporary music that brings together divergent contemporary practices – composition\, electronic music\, installation\, and improvisation – with the goal connecting people of different artistic communities – both listeners and practitioners – in order to explore the ways their shared interests intersect. \n\n\n\n\nSounding Now Festival 2019\n\n\n\n\nSounding Now Blog\n\n\n\n\nTICKETING INFORMATION\n• Free admission.• All event information is correct at time of print.• Out of respect for other concertgoers\, no children under 6 years of age will be allowed admission.
URL:https://www.ystmusic.nus.edu.sg/event/sounding-now-festival-2019-open-spaces/
END:VEVENT
END:VCALENDAR