BEGIN:VCALENDAR
VERSION:2.0
PRODID:-//YST Conservatory - ECPv6.15.17//NONSGML v1.0//EN
CALSCALE:GREGORIAN
METHOD:PUBLISH
X-WR-CALNAME:YST Conservatory
X-ORIGINAL-URL:https://www.ystmusic.nus.edu.sg
X-WR-CALDESC:Events for YST Conservatory
REFRESH-INTERVAL;VALUE=DURATION:PT1H
X-Robots-Tag:noindex
X-PUBLISHED-TTL:PT1H
BEGIN:VTIMEZONE
TZID:Asia/Singapore
BEGIN:STANDARD
TZOFFSETFROM:+0800
TZOFFSETTO:+0800
TZNAME:+08
DTSTART:20200101T000000
END:STANDARD
END:VTIMEZONE
BEGIN:VEVENT
DTSTART;TZID=Asia/Singapore:20211011T121500
DTEND;TZID=Asia/Singapore:20211011T131500
DTSTAMP:20260420T024653
CREATED:20210602T132325Z
LAST-MODIFIED:20211006T174406Z
UID:16795-1633954500-1633958100@www.ystmusic.nus.edu.sg
SUMMARY:[INTERNAL] SoundBites: Tenderness\, Passion and Stage
DESCRIPTION:* Internal events will only be open to YST faculty\, staff and students. \nPROGRAMME \n\nARNOLD MALCOLMTrio for flute\, oboe and piano  \n\n\nVIKTORIYA KLYUKINA (B.Mus4)\, fluteNESTOR SOLORZANO (B.Mus3)\, oboeJONAH RYAN KWEK LIM (B.Mus3)\, piano \n\n\nSERGEI PROKOFIEVFlute Sonata I. ModeratoII. ScherzoIII. AndanteIV. Allegro con brio \n\n\nVIKTORIYA KLYUKINA (B.Mus4)\, fluteMATTHEW MAK\, piano \n\n\n\nLUDWIG THUILLESextet for Piano and Winds in B-Flat Major\, Op. 6I. Allegro moderatoII. LarghettoIII. Gavotte. Andante\, quasi AllegrettoIV. Finale – Vivace \n\nVIKTORIYA KLYUKINA (B.Mus4)\, fluteNESTOR SOLORZANO (B.Mus3)\, oboeCHEN I-CHING (B.Mus4)\, clarinetSTEPHEN MAK WAI SOON (B.Mus3)\, bassoonLUKE CHONG KHI SIAN (B.Mus4)\, hornJONAH RYAN KWEK LIM (B.Mus3)\, piano \n\nABOUT THIS EVENT  \nThree countries\, three composers\, and three diverse fates. \nSir Malcolm Henry Arnold – with his unabashed\, tuneful\, lively rhythms and prominent English spirit; Sergei Sergeevich Prokofiev – a Russian melodist\, an innovator widely known for his music and his exposure to nature; and Ludwig Wilhelm Andreas Maria Thuille an Austrian composer and teacher\, who was amongst the leading operatic composers of the Munich School of Composers.\nHow is it even possible to bring three composers of such diverse styles together?\nTenderness\, Passion\, and Stage.\nThree key avenues which can help open the door to a whole new world.\nSubscribe to YST’s mailing list. \nTICKETING INFORMATION• All event information is correct at time of print.
URL:https://www.ystmusic.nus.edu.sg/event/soundbites-woodwinds/
LOCATION:Conservatory Orchestra Hall\, Yong Siew Toh Conservatory of Music\, 3 Conservatory Drive\, Singapore\, 117376\, Singapore
ATTACH;FMTTYPE=image/jpeg:https://www.ystmusic.nus.edu.sg/wp-content/uploads/2021/06/website-copy-2.jpg
END:VEVENT
END:VCALENDAR