BEGIN:VCALENDAR
VERSION:2.0
PRODID:-//YST Conservatory - ECPv6.15.17//NONSGML v1.0//EN
CALSCALE:GREGORIAN
METHOD:PUBLISH
X-WR-CALNAME:YST Conservatory
X-ORIGINAL-URL:https://www.ystmusic.nus.edu.sg
X-WR-CALDESC:Events for YST Conservatory
REFRESH-INTERVAL;VALUE=DURATION:PT1H
X-Robots-Tag:noindex
X-PUBLISHED-TTL:PT1H
BEGIN:VTIMEZONE
TZID:Asia/Singapore
BEGIN:STANDARD
TZOFFSETFROM:+0800
TZOFFSETTO:+0800
TZNAME:+08
DTSTART:20190101T000000
END:STANDARD
END:VTIMEZONE
BEGIN:VEVENT
DTSTART;TZID=Asia/Singapore:20200309T121500
DTEND;TZID=Asia/Singapore:20200309T121500
DTSTAMP:20260421T104019
CREATED:20200102T091435Z
LAST-MODIFIED:20200309T021210Z
UID:8500-1583756100-1583756100@www.ystmusic.nus.edu.sg
SUMMARY:[LIMITED SEATS] SoundBites: Flute Punch
DESCRIPTION:In view of current health and travel advisories\, limited seats will be available for this event.  \nLimited seats events are open to YST and members of the public\, up to a total cap of 50 pax. Admission will be first-come\, first-served based on registration at the door. Temperature-taking and visitor registration will be required on arrival at the YST building. \nFor more information on the status of YST events\, please visit: bit.ly/yst-updates \nPROGRAMME \nKHACHUTURIANFlute Concerto III. Allegro vivace \nTIEN YA-LI (B.Mus3)\, fluteMATTHEW MAK\, piano \nLIEBERMANNFlute Concerto\, Op. 39 II. Molto adagioIII. Presto \nSEE RUI YANG (B.Mus3)\, fluteMATTHEW MAK\, piano \nREINECKEFlute Concerto in D major\, Op. 283 I. Allegro molto moderato \nJULIEN QUEK (B.Mus1)\, fluteMATTHEW MAK\, piano \nIBERTFlute Concerto  II. AndanteIII. Allegro Scherzando \nVIKTORIYA KLYUKINA (B.Mus2)\, fluteMATTHEW MAK\, piano \nJOLIVETChant de Linos \nKIM MINSEO (B.Mus4)\, fluteMATTHEW MAK\, piano \nABOUT THE EVENTJoin the YST flute studio in a potpourri of classics from the flute repertoire. \nTICKETING INFORMATION • Free admission. • All event information is correct at time of print. • Out of respect for other concertgoers\, no children under 6 years of age will be allowed admission.
URL:https://www.ystmusic.nus.edu.sg/event/soundbites-the-flute-punch/
LOCATION:Conservatory Orchestra Hall\, Yong Siew Toh Conservatory of Music\, 3 Conservatory Drive\, Singapore\, 117376\, Singapore
ATTACH;FMTTYPE=image/jpeg:https://www.ystmusic.nus.edu.sg/wp-content/uploads/2020/01/flute-studio-shot.jpg
END:VEVENT
END:VCALENDAR