BEGIN:VCALENDAR
VERSION:2.0
PRODID:-//YST Conservatory - ECPv6.15.17//NONSGML v1.0//EN
CALSCALE:GREGORIAN
METHOD:PUBLISH
X-WR-CALNAME:YST Conservatory
X-ORIGINAL-URL:https://www.ystmusic.nus.edu.sg
X-WR-CALDESC:Events for YST Conservatory
REFRESH-INTERVAL;VALUE=DURATION:PT1H
X-Robots-Tag:noindex
X-PUBLISHED-TTL:PT1H
BEGIN:VTIMEZONE
TZID:Asia/Singapore
BEGIN:STANDARD
TZOFFSETFROM:+0800
TZOFFSETTO:+0800
TZNAME:+08
DTSTART:20180101T000000
END:STANDARD
END:VTIMEZONE
BEGIN:VEVENT
DTSTART;TZID=Asia/Singapore:20190311T121500
DTEND;TZID=Asia/Singapore:20190311T121500
DTSTAMP:20260415T171724
CREATED:20191120T092211Z
LAST-MODIFIED:20191120T092229Z
UID:7476-1552306500-1552306500@www.ystmusic.nus.edu.sg
SUMMARY:Soundbites: OpusNovus
DESCRIPTION:PROGRAMME \nJO KONDO \nStanding \nYANG KATHERINE (B.MUS2)\, french hornLIN YU-CHEN (BMUS2)\, violin CHANG YU-CIH (BMUS2)\, double bass \nProgramme Note for Standing \nUNSUK CHINGougalon \nI. Prologue – Dramatic Opening of the CurtainII. Lament of the Bald SingerIII. The Grinning Fortune Teller with the False TeethIV. Episode between Bottles and CansV. Circulus vitiosos – Dance around the shacksVI. The Hunt for the Quack’s Plait \nYA-LI TIEN (B.MUS2)\, flute KIM HYESOO (BMUS2)\, oboe STEPHANIE TAN HUI MIN (B.MUS2)\, clarinetJID-ANAN NETTHAI (B.MUS2)\, trumpetDANILO IGNACIO CONTRERAS OSORIO (B.MUS2)\, tromboneLEE CHAEYEONG (B.MUS2)\, percussionLU PEI-HSIEN (B.MU3)\, percussionLI BOYI (B.MUS2)\, violinSEMEN ZHERNOVYKH (BMUS2)\, violin CHIU YI-RU (BMUS2)\, viola LIU YUNBEI (BMUS2)\, cello MARTIN JAGGI\, celloMAN GEGE (BMUS2)\, double bass POH KAI WEN (B.MUS3)\, pianoCHEUNG KAM SAM (B.MUS3)\, piano \nProgramme Note for Gougalon \nABOUT THIS EVENTJoin musicians of OpusNovus for a lunchtime concert exploring the music of our times. \nTICKETING INFORMATION \n• Free admission.• All event information is correct at time of print.• Out of respect for other concertgoers\, no children under 6 years of age will be allowed admission.
URL:https://www.ystmusic.nus.edu.sg/event/soundbites-opusnovus-2/
LOCATION:Conservatory Orchestra Hall\, Yong Siew Toh Conservatory of Music\, 3 Conservatory Drive\, Singapore\, 117376\, Singapore
ATTACH;FMTTYPE=image/jpeg:https://www.ystmusic.nus.edu.sg/wp-content/uploads/2019/11/031119-soundbites-opusnovus.jpg
END:VEVENT
END:VCALENDAR