BEGIN:VCALENDAR
VERSION:2.0
PRODID:-//YST Conservatory - ECPv6.15.17//NONSGML v1.0//EN
CALSCALE:GREGORIAN
METHOD:PUBLISH
X-WR-CALNAME:YST Conservatory
X-ORIGINAL-URL:https://www.ystmusic.nus.edu.sg
X-WR-CALDESC:Events for YST Conservatory
REFRESH-INTERVAL;VALUE=DURATION:PT1H
X-Robots-Tag:noindex
X-PUBLISHED-TTL:PT1H
BEGIN:VTIMEZONE
TZID:Asia/Singapore
BEGIN:STANDARD
TZOFFSETFROM:+0800
TZOFFSETTO:+0800
TZNAME:+08
DTSTART:20200101T000000
END:STANDARD
END:VTIMEZONE
BEGIN:VEVENT
DTSTART;TZID=Asia/Singapore:20211004T121500
DTEND;TZID=Asia/Singapore:20211004T131500
DTSTAMP:20260421T232604
CREATED:20210602T124728Z
LAST-MODIFIED:20210813T074216Z
UID:16781-1633349700-1633353300@www.ystmusic.nus.edu.sg
SUMMARY:[CANCELLED] Soundbites: Dance
DESCRIPTION:FELITA ELEONORA (B.Mus4)\, harpELICIA NEO (B.Mus4)\, violinALISON WONG (B.Mus4)\, sopranoRACHEL WONG YONG EN (B.Mus4) mezzo-soprano \nPROGRAMME \nLILI BOULANGERNocturne  \nGABRIEL FAURÉLe Secret  \nTsintsadze Nana  \nDoluri  \nGEORGE FRIDERIC HANDELGiulio Cesare \nAria: Non Disperar \nAria: V’adoro\, pupille \nABOUT THIS EVENT  \nJoin us in this lunchtime programme featuring multi-cultural chamber music. \nSubscribe to YST’s mailing list. \nTICKETING INFORMATION• All event information is correct at time of print.
URL:https://www.ystmusic.nus.edu.sg/event/soundbites-dance/
LOCATION:Conservatory Orchestra Hall\, Yong Siew Toh Conservatory of Music\, 3 Conservatory Drive\, Singapore\, 117376\, Singapore
ATTACH;FMTTYPE=image/jpeg:https://www.ystmusic.nus.edu.sg/wp-content/uploads/2020/11/harp.jpg
END:VEVENT
END:VCALENDAR