BEGIN:VCALENDAR
VERSION:2.0
PRODID:-//YST Conservatory - ECPv6.15.17//NONSGML v1.0//EN
CALSCALE:GREGORIAN
METHOD:PUBLISH
X-WR-CALNAME:YST Conservatory
X-ORIGINAL-URL:https://www.ystmusic.nus.edu.sg
X-WR-CALDESC:Events for YST Conservatory
REFRESH-INTERVAL;VALUE=DURATION:PT1H
X-Robots-Tag:noindex
X-PUBLISHED-TTL:PT1H
BEGIN:VTIMEZONE
TZID:Asia/Singapore
BEGIN:STANDARD
TZOFFSETFROM:+0800
TZOFFSETTO:+0800
TZNAME:+08
DTSTART:20190101T000000
END:STANDARD
END:VTIMEZONE
BEGIN:VEVENT
DTSTART;TZID=Asia/Singapore:20200316T121500
DTEND;TZID=Asia/Singapore:20200316T130000
DTSTAMP:20260422T014453
CREATED:20200305T033105Z
LAST-MODIFIED:20200311T075624Z
UID:10480-1584360900-1584363600@www.ystmusic.nus.edu.sg
SUMMARY:[LIMITED SEATS] Soundbites: Celebration!
DESCRIPTION:In view of current health and travel advisories\, limited seats will be available for this event.  \nLimited seats events are open to YST and members of the public\, up to a total cap of 50 pax. Admission will be first-come\, first-served based on registration at the door. Temperature-taking and visitor registration will be required on arrival at the YST building. \nFor more information on the status of YST events\, please visit: bit.ly/yst-updates \nJOSHUA TANG JUNG SIONG\, oboe (B.Mus4) CHANG YUN-HUA\, piano (B.Mus3) \nPROGRAMME \nRAVEL\, ARR. SCHMITT/RIOULe Tombeau de Couperin \n\n\n\nPrélude. Vif \nFugue. Allegro moderato \nForlane. Allegretto \nRigaudon. Assez vif \nMenuet. Allegro moderato \nToccata. Vif \n\n\n\nMARTINUConcerto for Oboe\, H.353 \n\n\n\nModerato\nPoco andante\nPoco allegro\n\n\n\nABOUT THIS EVENTJoshua Tang and Chang Yun-Hua presents an oboe recital: Ravel’s ever popular Le Tombeau de Couperin exists in various forms; this version is inspired by Ravel’s orchestration which features the oboe in prominence. Martinu’s oboe concerto represents the best qualities of the composer\, balancing between playful\, lyrical\, and emotional elements. Download Programme Notes here.  \nTICKETING INFORMATION • Free admission.  • All event information is correct at time of print.  • Out of respect for other concertgoers\, no children under 6 years of age will be allowed admission. \n\n\n\n\n\n\n\n\n\n 
URL:https://www.ystmusic.nus.edu.sg/event/soundbites-celebration/
LOCATION:Conservatory Orchestra Hall\, Yong Siew Toh Conservatory of Music\, 3 Conservatory Drive\, Singapore\, 117376\, Singapore
ATTACH;FMTTYPE=image/png:https://www.ystmusic.nus.edu.sg/wp-content/uploads/2020/03/joshua.png
END:VEVENT
END:VCALENDAR