BEGIN:VCALENDAR
VERSION:2.0
PRODID:-//YST Conservatory - ECPv6.15.17//NONSGML v1.0//EN
CALSCALE:GREGORIAN
METHOD:PUBLISH
X-WR-CALNAME:YST Conservatory
X-ORIGINAL-URL:https://www.ystmusic.nus.edu.sg
X-WR-CALDESC:Events for YST Conservatory
REFRESH-INTERVAL;VALUE=DURATION:PT1H
X-Robots-Tag:noindex
X-PUBLISHED-TTL:PT1H
BEGIN:VTIMEZONE
TZID:Asia/Singapore
BEGIN:STANDARD
TZOFFSETFROM:+0800
TZOFFSETTO:+0800
TZNAME:+08
DTSTART:20240101T000000
END:STANDARD
END:VTIMEZONE
BEGIN:VEVENT
DTSTART;TZID=Asia/Singapore:20250915T121500
DTEND;TZID=Asia/Singapore:20250915T131500
DTSTAMP:20260422T180115
CREATED:20250729T041759Z
LAST-MODIFIED:20250910T031438Z
UID:39106-1757938500-1757942100@www.ystmusic.nus.edu.sg
SUMMARY:Soundbites: Fantasy in Tableaux
DESCRIPTION:Our Soundbites series offers Conservatory students the opportunity to programme their own concerts and showcase their unique musical interests and artistic expertise.PROGRAMME \nJIANG QIFAN (BMus2)\, piano \nROBERT SCHUMANN Fantasy in C Major\, Op. 17I. Durchaus fantastisch und leidenschaftlich vorzutragen; Im Legenden-TonII. Mäßig. Durchaus energischIII. Langsam getragen. Durchweg leise zu halten \nSERGEI RACHMANINOFF Etudes-Tableaux Op. 33I. Allegro non troppo (F Minor)II. Allegro (C Major)III. Grave (C Minor)IV. Moderato (D Minor)V. Non allegro (E♭ Minor)VI. Allegro con fuoco (E♭ Major)VII. Moderato (G Minor)VIII. Grave (C♯ Minor) \nTICKETING INFORMATIONAdmission is free and on a first-come\, first-served basis. Out of respect for the participants and other spectators\, no children under 6 years of age will be allowed admission.Be the first to hear about our upcoming events! Join our mailing list here.
URL:https://www.ystmusic.nus.edu.sg/event/soundbites-150925/
LOCATION:YST Recording Studio\, Level 2\, Yong Siew Toh Conservatory of Music\, 3 Conservatory Drive\, 117376\, Singapore
ATTACH;FMTTYPE=image/jpeg:https://www.ystmusic.nus.edu.sg/wp-content/uploads/2025/07/IMG_0368-scaled.jpeg
END:VEVENT
END:VCALENDAR