BEGIN:VCALENDAR
VERSION:2.0
PRODID:-//YST Conservatory - ECPv6.15.17//NONSGML v1.0//EN
CALSCALE:GREGORIAN
METHOD:PUBLISH
X-WR-CALNAME:YST Conservatory
X-ORIGINAL-URL:https://www.ystmusic.nus.edu.sg
X-WR-CALDESC:Events for YST Conservatory
REFRESH-INTERVAL;VALUE=DURATION:PT1H
X-Robots-Tag:noindex
X-PUBLISHED-TTL:PT1H
BEGIN:VTIMEZONE
TZID:Asia/Singapore
BEGIN:STANDARD
TZOFFSETFROM:+0800
TZOFFSETTO:+0800
TZNAME:+08
DTSTART:20240101T000000
END:STANDARD
END:VTIMEZONE
BEGIN:VEVENT
DTSTART;TZID=Asia/Singapore:20250908T121500
DTEND;TZID=Asia/Singapore:20250908T131500
DTSTAMP:20260425T103457
CREATED:20250729T041649Z
LAST-MODIFIED:20250904T023532Z
UID:39103-1757333700-1757337300@www.ystmusic.nus.edu.sg
SUMMARY:Soundbites: Tsao Wei Chun
DESCRIPTION:Our Soundbites series offers Conservatory students the opportunity to programme their own concerts and showcase their unique musical interests and artistic expertise. \nPROGRAMME \nTSAO WEI CHUN (BMus4)\, violinGE XIAOZHE\, piano \nLUDWIG VAN BEETHOVEN\nViolin Sonata No. 4 in A minor\, Op. 23\n \nWOLFGANG AMADEUS MOZART\nViolin Concerto No.5 in A major\, KV. 219\n \nWITOLD LUTOSLAWSKI\nSubito for violin and piano\nTICKETING INFORMATIONAdmission is free and on a first-come\, first-served basis. Out of respect for the participants and other spectators\, no children under 6 years of age will be allowed admission.Be the first to hear about our upcoming events! Join our mailing list here.
URL:https://www.ystmusic.nus.edu.sg/event/soundbites-080925/
LOCATION:YST Recording Studio\, Level 2\, Yong Siew Toh Conservatory of Music\, 3 Conservatory Drive\, 117376\, Singapore
ATTACH;FMTTYPE=image/jpeg:https://www.ystmusic.nus.edu.sg/wp-content/uploads/2025/07/LRHor-Soundbites.jpg
END:VEVENT
END:VCALENDAR