BEGIN:VCALENDAR
VERSION:2.0
PRODID:-//YST Conservatory - ECPv6.15.17//NONSGML v1.0//EN
CALSCALE:GREGORIAN
METHOD:PUBLISH
X-WR-CALNAME:YST Conservatory
X-ORIGINAL-URL:https://www.ystmusic.nus.edu.sg
X-WR-CALDESC:Events for YST Conservatory
REFRESH-INTERVAL;VALUE=DURATION:PT1H
X-Robots-Tag:noindex
X-PUBLISHED-TTL:PT1H
BEGIN:VTIMEZONE
TZID:Asia/Singapore
BEGIN:STANDARD
TZOFFSETFROM:+0800
TZOFFSETTO:+0800
TZNAME:+08
DTSTART:20240101T000000
END:STANDARD
END:VTIMEZONE
BEGIN:VEVENT
DTSTART;TZID=Asia/Singapore:20250901T121500
DTEND;TZID=Asia/Singapore:20250901T131500
DTSTAMP:20260423T182640
CREATED:20250729T041346Z
LAST-MODIFIED:20250827T060413Z
UID:39100-1756728900-1756732500@www.ystmusic.nus.edu.sg
SUMMARY:Soundbites: OpusNovus
DESCRIPTION:Committed to presenting groundbreaking repertoire from the 20th and 21st centuries\, YST contemporary music ensemble OpusNovus empowers young musicians to explore and engage with the evolving language of contemporary music through performance\, collaboration\, and experimentation. \nThe ensemble performs works by leading international composers and actively champions Southeast Asian voices. They have shared the stage with acclaimed groups such as the London Sinfonietta and Ensemble Phoenix Basel\, and collaborated with guest conductors like Steven Schick and Jürg Henneberger. \nThe ensemble made its debut tour to Australia in 2023\, and will be making its China debut in 2025 at the Shenzhen Belt & Road International Music Festival. Through bold programming and fearless performances\, OpusNovus continues to shape a distinctive voice for new music in Singapore and beyond. \nPROGRAMMEPAYTON MACDONALDSeed Science \nOH SEONYOUNG (BMus3)\, fluteLIU JIAYU (BMus3)\, bassoonCHEN SHIJIN (BMus3)\, tromboneCHEN BO-YU (BMus3)\, pianoCHIEN HSIN (BMus3)\, violinCHEN SHU-YU (BMus3)\, violinCHEN YOUJIA (BMus3)\, cello \nWILL REDMANBook \nSIMEON YAP SHENG KIAT (BMus3)\, fluteHARSHARON KAUR (BMus3)\, hornLOW KIM VEN (BMus3)\, bass tromboneFONG JEAN YING (BMus3)\, pianoVIKTORIA IVAYLOVA MARINOVA (BMus3)\, violinCAITLIN CHIN KAI LI (BMus3)\, violaWANG JIAYE (BMus3)\, cello \nRICHARD BARRETTCodex IV \nDOMINIC KOH (BMus3)\, clarinetLAU EN QI CHLOE (BMus3)\, hornTUNG WEI-ZHEN (BMus3)\, tubaKUO LYU-CEN (BMus3)\, pianoXU ZHUORUI (BMus3)\, violinYU YANG (BMus3)\, viola \nJÜRG FREYFleetingness \nZHANG LIANGLIANG (BMus )\, clarinetCHIU FANG-MENG (BMus )\, trumpetEVELYN KUO CHAN (BMus )\, percussionLIN SHIH-EN (BMus )\, pianoZHAO TONGZHOU (BMus )\, violinREN ZHIYI (BMus )\, celloYUAN MOER (BMus )\, double bass \nTICKETING INFORMATIONAdmission is free and on a first-come\, first-served basis. Out of respect for the participants and other spectators\, no children under 6 years of age will be allowed admission.Be the first to hear about our upcoming events! Join our mailing list here.
URL:https://www.ystmusic.nus.edu.sg/event/soundbites-010925/
LOCATION:YST Recording Studio\, Level 2\, Yong Siew Toh Conservatory of Music\, 3 Conservatory Drive\, 117376\, Singapore
ATTACH;FMTTYPE=image/jpeg:https://www.ystmusic.nus.edu.sg/wp-content/uploads/2025/07/LRHor-OpusNovusSoundbites.jpg
END:VEVENT
END:VCALENDAR