BEGIN:VCALENDAR
VERSION:2.0
PRODID:-//YST Conservatory - ECPv6.15.17//NONSGML v1.0//EN
CALSCALE:GREGORIAN
METHOD:PUBLISH
X-WR-CALNAME:YST Conservatory
X-ORIGINAL-URL:https://www.ystmusic.nus.edu.sg
X-WR-CALDESC:Events for YST Conservatory
REFRESH-INTERVAL;VALUE=DURATION:PT1H
X-Robots-Tag:noindex
X-PUBLISHED-TTL:PT1H
BEGIN:VTIMEZONE
TZID:Asia/Singapore
BEGIN:STANDARD
TZOFFSETFROM:+0800
TZOFFSETTO:+0800
TZNAME:+08
DTSTART:20190101T000000
END:STANDARD
END:VTIMEZONE
BEGIN:VEVENT
DTSTART;TZID=Asia/Singapore:20200418T193000
DTEND;TZID=Asia/Singapore:20200418T193000
DTSTAMP:20260422T134010
CREATED:20200102T091502Z
LAST-MODIFIED:20200319T081458Z
UID:8552-1587238200-1587238200@www.ystmusic.nus.edu.sg
SUMMARY:[CANCELLED] Sounding Now Festival: Contemporary Swiss Music
DESCRIPTION:In view of current health and travel advisories\, this event has been cancelled. We apologise for any inconvenience caused.For more information on the status of YST events\, please visit: bit.ly/yst-updates \nMONDRIAN ENSEMBLE \nPROGRAMMEMARTIN JAGGIKÔRD I-III (2017) for piano quartet  \nMICHAEL JARRELL..Nachlese II… (2007) for violin and cello  \nTHOMAS WALLYCaprice (2009) for string trio  \nHEINZ HOLLIGERSkizze – Pirouttes harmoniques (2006) for violin and viola  \nDIETER AMMANNAprès le silence (2005) for piano trio  \nABOUT THIS EVENTHailing from Basel\, Switzerland\, the piano quartet Mondrian Ensemble brings with them a selection of works by modern Swiss composers of differing generations\, from the eminent oboist and composer Heinz Holliger to YST Composition Artist Faculty member Martin Jaggi. Also part of the younger generation in the concert – and the only composer not from Switzerland – is Austrian Thomas Wally whose Caprice for string trio will be performed. \nABOUT SOUNDING NOW FESTIVAL  \nUpdate: Cancellation of Festival 2020In view of current health and travel advisories relating to the ongoing COVID-19\, YST is implementing safety precautions consistent with NUS policy. Coupled with the increasing number of international travel bans\, the organizers have decided to cancel this year’s festival. However\, a select number of events are still slated to happen independently. Please see refer to the events listing below for more information.  \nWe apologise for the inconvenience and seek your kind understanding as we work to ensure a safe environment for all. \nSounding Now is a festival of contemporary music that brings together divergent contemporary practices with the goal of connecting people from different artistic communities in order to explore the ways their shared interests intersect. Presented by the Yong Siew Toh Conservatory of Music\, the festival brings together contemporary music of different approaches – concert music\, installation\, electronics\, and improvisation. This year’s festival will have a particular focus on contemporary percussion music. Special guests are Steven Schick\, percussion\, and the Swiss-based piano quartet Mondrian Ensemble. Singapore-based contemporary music ensembles OpusNovus and Wu Xian will perform as well several of the top experimental music improvisers from Singapore. Additionally\, percussion students from Yong Siew Toh; UiTM\, Shah Alam; and Western Australian Academy of the Performing Arts (WAAPA) will perform along with their teachers Mario Choo\, Max Riefer\, and Tim White. The festival takes place from 15-19 April 2020 and is presented by Yong Siew Toh Conservatory of Music. \nTICKETING INFORMATION • Free admission • All event information is correct at time of print. • Out of respect for other concertgoers\, no children under 6 years of age will be allowed admission. Photo credits:
URL:https://www.ystmusic.nus.edu.sg/event/sn2020-swiss/
LOCATION:Conservatory Concert Hall\, Yong Siew Toh Conservatory of Music\, 3 Conservatory Drive\, 117376\, Singapore
ATTACH;FMTTYPE=image/jpeg:https://www.ystmusic.nus.edu.sg/wp-content/uploads/2020/01/mondrian-1.jpg
END:VEVENT
END:VCALENDAR