BEGIN:VCALENDAR
VERSION:2.0
PRODID:-//YST Conservatory - ECPv6.15.17//NONSGML v1.0//EN
CALSCALE:GREGORIAN
METHOD:PUBLISH
X-WR-CALNAME:YST Conservatory
X-ORIGINAL-URL:https://www.ystmusic.nus.edu.sg
X-WR-CALDESC:Events for YST Conservatory
REFRESH-INTERVAL;VALUE=DURATION:PT1H
X-Robots-Tag:noindex
X-PUBLISHED-TTL:PT1H
BEGIN:VTIMEZONE
TZID:Asia/Singapore
BEGIN:STANDARD
TZOFFSETFROM:+0800
TZOFFSETTO:+0800
TZNAME:+08
DTSTART:20190101T000000
END:STANDARD
END:VTIMEZONE
BEGIN:VEVENT
DTSTART;TZID=Asia/Singapore:20200419T150000
DTEND;TZID=Asia/Singapore:20200419T150000
DTSTAMP:20260416T011217
CREATED:20200102T091509Z
LAST-MODIFIED:20200326T105545Z
UID:8554-1587308400-1587308400@www.ystmusic.nus.edu.sg
SUMMARY:[INTERNAL CLASS] Soundlines
DESCRIPTION:In view of current health and travel advisories\, this event will no longer be open to the general public. \nInternal Classes will only be open to YST students as an ongoing class. \nFor more information on the status of YST events\, please visit: bit.ly/yst-updates \nOPUSNOVUSLIEN BOON HUA\, conductor  \nPROGRAMME  \nCAROLA BAUCKHOLT Schlammflocke II \nSIMON STEEN-ANDERSENStudy for String Instrument #1 \nGALINA USTVOLSKAYA Composition No. 1 (Dona Nobis Pacem)  \nGYÖRGY LIGETIHorn Trio \nABOUT THIS EVENTSteven Schick performs the Asian premiere of Soundlines for percussion and ensemble by American composer and improviser George E. Lewis\, the Edwin H. Case Professor of American Music at Columbia University. Works by Carola Bauckholt\, Galina Ustvolskaya\, and György Ligeti are also presented. \nABOUT SOUNDING NOW FESTIVAL  \nUpdate: Cancellation of Festival 2020In view of current health and travel advisories relating to the ongoing COVID-19\, YST is implementing safety precautions consistent with NUS policy. Coupled with the increasing number of international travel bans\, the organizers have decided to cancel this year’s festival. However\, a select number of events are still slated to happen independently. Please see refer to the events listing below for more information.  \nWe apologise for the inconvenience and seek your kind understanding as we work to ensure a safe environment for all. \nSounding Now is a festival of contemporary music that brings together divergent contemporary practices with the goal of connecting people from different artistic communities in order to explore the ways their shared interests intersect. Presented by the Yong Siew Toh Conservatory of Music\, the festival brings together contemporary music of different approaches – concert music\, installation\, electronics\, and improvisation. This year’s festival will have a particular focus on contemporary percussion music. Special guests are Steven Schick\, percussion\, and the Swiss-based piano quartet Mondrian Ensemble. Singapore-based contemporary music ensembles OpusNovus and Wu Xian will perform as well several of the top experimental music improvisers from Singapore. Additionally\, percussion students from Yong Siew Toh; UiTM\, Shah Alam; and Western Australian Academy of the Performing Arts (WAAPA) will perform along with their teachers Mario Choo\, Max Riefer\, and Tim White. The festival takes place from 15-19 April 2020 and is presented by Yong Siew Toh Conservatory of Music. \nTICKETING INFORMATION • Free admission • All event information is correct at time of print. • Out of respect for other concertgoers\, no children under 6 years of age will be allowed admission. 
URL:https://www.ystmusic.nus.edu.sg/event/sn2020-soundlines/
LOCATION:Conservatory Concert Hall\, Yong Siew Toh Conservatory of Music\, 3 Conservatory Drive\, 117376\, Singapore
END:VEVENT
END:VCALENDAR