BEGIN:VCALENDAR
VERSION:2.0
PRODID:-//YST Conservatory - ECPv6.15.17//NONSGML v1.0//EN
CALSCALE:GREGORIAN
METHOD:PUBLISH
X-WR-CALNAME:YST Conservatory
X-ORIGINAL-URL:https://www.ystmusic.nus.edu.sg
X-WR-CALDESC:Events for YST Conservatory
REFRESH-INTERVAL;VALUE=DURATION:PT1H
X-Robots-Tag:noindex
X-PUBLISHED-TTL:PT1H
BEGIN:VTIMEZONE
TZID:Asia/Singapore
BEGIN:STANDARD
TZOFFSETFROM:+0800
TZOFFSETTO:+0800
TZNAME:+08
DTSTART:20190101T000000
END:STANDARD
END:VTIMEZONE
BEGIN:VEVENT
DTSTART;TZID=Asia/Singapore:20200417T200000
DTEND;TZID=Asia/Singapore:20200417T200000
DTSTAMP:20260416T011233
CREATED:20200102T091501Z
LAST-MODIFIED:20200324T090725Z
UID:8550-1587153600-1587153600@www.ystmusic.nus.edu.sg
SUMMARY:[CANCELLED] Modern Classics
DESCRIPTION:In view of current health and travel advisories\, this event has been cancelled. We apologise for any inconvenience caused.For more information on the status of YST events\, please visit: bit.ly/yst-updates \nSTEVEN SCHICK\, MARIO CHOO\, MAX RIEFER\, STUDENTS\, percussion \nPROGRAMME \nFRITZ HAUSER Schraffur for percussion ensemble \nBRIAN FERNEYHOUGH  Bone Alphabet for solo percussion \nPETER IVAN EDWARDS  Irama Mabuk for 25 Almglocken \nIANNIS XENAKIS Persephassa for percussion sextet \nABOUT THIS EVENT This concert features two of the most important works in the modern percussion repertoire. Iannis Xenakis’s Persephassa for 6 percussionists places the musicians around the audience\, making the spatial movement of sound an integral part of the composition. Brian Ferneyhough’s Bone Alphabet was written at the request of Steven Schick who will perform it on this concert. It is an extremely demanding work only for virtuosos. Additionally\, there will be the premiere of Irama Mabuk by YST Head of Composition Peter Edwards and Fritz Hauser’s conceptual work for percussion ensemble performed by student percussionists visiting from the conservatory’s partner institutions. \nABOUT SOUNDING NOW FESTIVAL  \nUpdate: Cancellation of Festival 2020In view of current health and travel advisories relating to the ongoing COVID-19\, YST is implementing safety precautions consistent with NUS policy. Coupled with the increasing number of international travel bans\, the organizers have decided to cancel this year’s festival. However\, a select number of events are still slated to happen independently. Please see refer to the events listing below for more information.  \nWe apologise for the inconvenience and seek your kind understanding as we work to ensure a safe environment for all. \nSounding Now is a festival of contemporary music that brings together divergent contemporary practices with the goal of connecting people from different artistic communities in order to explore the ways their shared interests intersect. Presented by the Yong Siew Toh Conservatory of Music\, the festival brings together contemporary music of different approaches – concert music\, installation\, electronics\, and improvisation. This year’s festival will have a particular focus on contemporary percussion music. Special guests are Steven Schick\, percussion\, and the Swiss-based piano quartet Mondrian Ensemble. Singapore-based contemporary music ensembles OpusNovus and Wu Xian will perform as well several of the top experimental music improvisers from Singapore. Additionally\, percussion students from Yong Siew Toh; UiTM\, Shah Alam; and Western Australian Academy of the Performing Arts (WAAPA) will perform along with their teachers Mario Choo\, Max Riefer\, and Tim White. The festival takes place from 15-19 April 2020 and is presented by Yong Siew Toh Conservatory of Music. \nTICKETING INFORMATION  • Free admission  • All event information is correct at time of print. • Out of respect for other concertgoers\, no children under 6 years of age will be allowed admission. Photo credits:
URL:https://www.ystmusic.nus.edu.sg/event/sn2020-modern-classics/
LOCATION:Conservatory Orchestra Hall\, Yong Siew Toh Conservatory of Music\, 3 Conservatory Drive\, Singapore\, 117376\, Singapore
END:VEVENT
END:VCALENDAR