BEGIN:VCALENDAR
VERSION:2.0
PRODID:-//YST Conservatory - ECPv6.15.17//NONSGML v1.0//EN
CALSCALE:GREGORIAN
METHOD:PUBLISH
X-WR-CALNAME:YST Conservatory
X-ORIGINAL-URL:https://www.ystmusic.nus.edu.sg
X-WR-CALDESC:Events for YST Conservatory
REFRESH-INTERVAL;VALUE=DURATION:PT1H
X-Robots-Tag:noindex
X-PUBLISHED-TTL:PT1H
BEGIN:VTIMEZONE
TZID:Asia/Singapore
BEGIN:STANDARD
TZOFFSETFROM:+0800
TZOFFSETTO:+0800
TZNAME:+08
DTSTART:20190101T000000
END:STANDARD
END:VTIMEZONE
BEGIN:VEVENT
DTSTART;TZID=Asia/Singapore:20200419T163000
DTEND;TZID=Asia/Singapore:20200419T163000
DTSTAMP:20260421T220200
CREATED:20200102T091509Z
LAST-MODIFIED:20200324T061128Z
UID:8555-1587313800-1587313800@www.ystmusic.nus.edu.sg
SUMMARY:[CANCELLED] Student Percussion Concert
DESCRIPTION:In view of current health and travel advisories\, this event has been cancelled. We apologise for any inconvenience caused.For more information on the status of YST events\, please visit: bit.ly/yst-updates \nINTERNATIONAL STUDENT PERCUSSION ENSEMBLESTEVEN SCHICK\, conductor  \nPROGRAMME EDGARD VARESE Ionisation for percussion ensemble \nHO CHEE KONG Rainseeker for percussion trio \nTAZUL TADJUDDINNew Work for percussion quartet \nTOM GAUGERGainsborough \nABOUT THIS EVENTStudents from YST as well as Universiti Teknologi MARA\, Shah Alam present a concert of modern chamber works for percussion\, including Assoc Prof Ho Chee Kong’s work Folksongs for 3 marimbas. The concert will also feature the classic Ionisation by Edgard Varese\, the first work for percussion ensemble\, performed by the students and conducted by Steven Schick.  \nABOUT SOUNDING NOW FESTIVAL  \nUpdate: Cancellation of Festival 2020In view of current health and travel advisories relating to the ongoing COVID-19\, YST is implementing safety precautions consistent with NUS policy. Coupled with the increasing number of international travel bans\, the organizers have decided to cancel this year’s festival. However\, a select number of events are still slated to happen independently. Please see refer to the events listing below for more information.  \nWe apologise for the inconvenience and seek your kind understanding as we work to ensure a safe environment for all. \nSounding Now is a festival of contemporary music that brings together divergent contemporary practices with the goal of connecting people from different artistic communities in order to explore the ways their shared interests intersect. Presented by the Yong Siew Toh Conservatory of Music\, the festival brings together contemporary music of different approaches – concert music\, installation\, electronics\, and improvisation. This year’s festival will have a particular focus on contemporary percussion music. Special guests are Steven Schick\, percussion\, and the Swiss-based piano quartet Mondrian Ensemble. Singapore-based contemporary music ensembles OpusNovus and Wu Xian will perform as well several of the top experimental music improvisers from Singapore. Additionally\, percussion students from Yong Siew Toh; UiTM\, Shah Alam; and Western Australian Academy of the Performing Arts (WAAPA) will perform along with their teachers Mario Choo\, Max Riefer\, and Tim White. The festival takes place from 15-19 April 2020 and is presented by Yong Siew Toh Conservatory of Music. \nTICKETING INFORMATION • Free admission • All event information is correct at time of print. • Out of respect for other concertgoers\, no children under 6 years of age will be allowed admission. Photo credits:
URL:https://www.ystmusic.nus.edu.sg/event/sn2020-generation-2/
LOCATION:Conservatory Orchestra Hall\, Yong Siew Toh Conservatory of Music\, 3 Conservatory Drive\, Singapore\, 117376\, Singapore
END:VEVENT
END:VCALENDAR