BEGIN:VCALENDAR
VERSION:2.0
PRODID:-//YST Conservatory - ECPv6.15.17//NONSGML v1.0//EN
CALSCALE:GREGORIAN
METHOD:PUBLISH
X-WR-CALNAME:YST Conservatory
X-ORIGINAL-URL:https://www.ystmusic.nus.edu.sg
X-WR-CALDESC:Events for YST Conservatory
REFRESH-INTERVAL;VALUE=DURATION:PT1H
X-Robots-Tag:noindex
X-PUBLISHED-TTL:PT1H
BEGIN:VTIMEZONE
TZID:Asia/Singapore
BEGIN:STANDARD
TZOFFSETFROM:+0800
TZOFFSETTO:+0800
TZNAME:+08
DTSTART:20190101T000000
END:STANDARD
END:VTIMEZONE
BEGIN:VEVENT
DTSTART;TZID=Asia/Singapore:20200331T193000
DTEND;TZID=Asia/Singapore:20200331T193000
DTSTAMP:20260416T011854
CREATED:20200102T091458Z
LAST-MODIFIED:20200303T043938Z
UID:8533-1585683000-1585683000@www.ystmusic.nus.edu.sg
SUMMARY:[CANCELLED] Faculty Recital Series: Slavic Impressions
DESCRIPTION:In view of current health and travel advisories\, this event has been cancelled. We apologise for any inconvenience caused. \nFor more information on the status of YST events\, please visit: bit.ly/yst-updates \nNG PEI-SIAN\, cello ALBERT TIU\, piano  \nPROGRAMMECHOPIN Introduction and Polonaise Brillante\, Op. 3  \nMARTINŮSonata No. 3\, H.340 \nI. Poco andante-ModeratoII. AndanteIII. Allegro\, ma non presto \n– Intermission –  \nMARTINŮVariations on a theme of Rossini\, H.290 \nCHOPIN Cello Sonata\, Op. 65 \nI. Allegro moderatoII. Scherzo\, Trio III. Largo IV. Finale. Allegro \nABOUT THIS EVENTFaculty members Ng Pei-Sian and Assoc Prof Albert Tiu join forces in a programme inspired by Martinů’s withdrawal from the musical styles of the late 19th-century\, sandwiched by what could only be described as the polar opposite in the music of Chopin\, who composed with strong Nationalistic roots at the peak of the Romantic period.  \nTICKETING INFORMATION • Tickets at $10 from Eventbrite here.• All event information is correct at time of print. • Out of respect for other concertgoers\, no children under 6 years of age will be allowed admission.
URL:https://www.ystmusic.nus.edu.sg/event/slavic-impressions/
LOCATION:Conservatory Concert Hall\, Yong Siew Toh Conservatory of Music\, 3 Conservatory Drive\, 117376\, Singapore
ATTACH;FMTTYPE=image/jpeg:https://www.ystmusic.nus.edu.sg/wp-content/uploads/2020/01/pei-sian.jpg
END:VEVENT
END:VCALENDAR