BEGIN:VCALENDAR
VERSION:2.0
PRODID:-//YST Conservatory - ECPv6.15.17//NONSGML v1.0//EN
CALSCALE:GREGORIAN
METHOD:PUBLISH
X-WR-CALNAME:YST Conservatory
X-ORIGINAL-URL:https://www.ystmusic.nus.edu.sg
X-WR-CALDESC:Events for YST Conservatory
REFRESH-INTERVAL;VALUE=DURATION:PT1H
X-Robots-Tag:noindex
X-PUBLISHED-TTL:PT1H
BEGIN:VTIMEZONE
TZID:Asia/Singapore
BEGIN:STANDARD
TZOFFSETFROM:+0800
TZOFFSETTO:+0800
TZNAME:+08
DTSTART:20180101T000000
END:STANDARD
END:VTIMEZONE
BEGIN:VEVENT
DTSTART;TZID=Asia/Singapore:20190724T130000
DTEND;TZID=Asia/Singapore:20190724T130000
DTSTAMP:20260416T154320
CREATED:20191018T063647Z
LAST-MODIFIED:20191018T063647Z
UID:6286-1563973200-1563973200@www.ystmusic.nus.edu.sg
SUMMARY:Skillsfuture Festival @ NUS
DESCRIPTION:The SkillsFuture Festival @ NUS brings together industry experts to explore Industry 4.0 technologies\, approaches\, challenges and the way forward. \nFind out more about the festival and all sessions here.
URL:https://www.ystmusic.nus.edu.sg/event/skillsfuture-festival-nus/
ATTACH;FMTTYPE=image/jpeg:https://www.ystmusic.nus.edu.sg/wp-content/uploads/2019/10/072419-skillsfuture-festival-1.jpg
END:VEVENT
END:VCALENDAR