BEGIN:VCALENDAR
VERSION:2.0
PRODID:-//YST Conservatory - ECPv6.15.17//NONSGML v1.0//EN
CALSCALE:GREGORIAN
METHOD:PUBLISH
X-WR-CALNAME:YST Conservatory
X-ORIGINAL-URL:https://www.ystmusic.nus.edu.sg
X-WR-CALDESC:Events for YST Conservatory
REFRESH-INTERVAL;VALUE=DURATION:PT1H
X-Robots-Tag:noindex
X-PUBLISHED-TTL:PT1H
BEGIN:VTIMEZONE
TZID:Asia/Singapore
BEGIN:STANDARD
TZOFFSETFROM:+0800
TZOFFSETTO:+0800
TZNAME:+08
DTSTART:20200101T000000
END:STANDARD
END:VTIMEZONE
BEGIN:VEVENT
DTSTART;TZID=Asia/Singapore:20210426T140000
DTEND;TZID=Asia/Singapore:20210426T160000
DTSTAMP:20260416T153018
CREATED:20210222T174046Z
LAST-MODIFIED:20210421T154505Z
UID:14426-1619445600-1619452800@www.ystmusic.nus.edu.sg
SUMMARY:Senior Recitals: Oboe
DESCRIPTION:2:00 PM KIM HYESOO (B.Mus4)\, oboeMATTHEW MAK\, piano \nPROGRAMME \nGEORGE FRIDERIC HANDELOboe Sonata in B-flat major\, HWV 357 \nJOHANN WENZEL KALLIWODAMorceau de Salon\, Op. 228 \n– Intermission (10 mins) – \nBENJAMIN BRITTENSix Metamorphoses after Ovid\, Op. 49 I. PAN II. PHAETON III. NIOBE IV. BACCHUS V. NARCISSUS VI. ARETHUSA \nCAMILLE SAINT-SAËNSSonata for Oboe and Piano\, Op. 166 \nProgramme Booklet \n\n3:00 PM LU YONGQI (B.Mus4)\, oboeMATTHEW MAK\, piano \nPROGRAMME \nJOSEPH HAYDNConcerto in C major\, Hob VllI. Allegro spirituoso \nVIVALDI ANTONIOOboe Concerto in C major\, RV 447 I. Allegro non molto II. Larghetto III. Minuetto Oboe \n– Intermission (10 mins) – \n赵季平（ZHAO JIPING）陕南素描三首（Shan Nan Su Miao） 1. 春光（Chun Guang） 2. 往事（Wang Shi) 3. 赶场（Gan Chang) \nBENJAMIN BRITTENTemporal Variations for oboe and piano 1. Theme. Andante rubato 2. Oration. Lento quasi recitativo 3. March. Alla marcia 4. Exercises. Allegro molto e fuoco 5. Commination. Adagio con fuoco 6. Chorale. Molto lento 7. Waltz. Allegretto rubato 8. Polka. Tempo di Polka – Allegro 9. Resolution. Maestoso (ma non troppo lento) \nProgramme Booklet \n\nABOUT THIS EVENT \nAs part of their graduation requirements for music performance\, 4th year YST Conservatory students present an hour long recitals. \nThis event will be livestreamed on the Conservatory’s YouTube channel. Follow and subscribe to be notified of upcoming streams. \nSubscribe to YST’s mailing list. \nTICKETING INFORMATION  \n• Due to COVID-19 related guidelines\, this performance will only be offered virtually. • All event information is correct at time of print.
URL:https://www.ystmusic.nus.edu.sg/event/senior-recitals-oboe260421/
LOCATION:Conservatory Concert Hall\, Yong Siew Toh Conservatory of Music\, 3 Conservatory Drive\, 117376\, Singapore
ATTACH;FMTTYPE=image/jpeg:https://www.ystmusic.nus.edu.sg/wp-content/uploads/2021/02/yongqi.jpg
END:VEVENT
END:VCALENDAR