BEGIN:VCALENDAR
VERSION:2.0
PRODID:-//YST Conservatory - ECPv6.15.17//NONSGML v1.0//EN
CALSCALE:GREGORIAN
METHOD:PUBLISH
X-WR-CALNAME:YST Conservatory
X-ORIGINAL-URL:https://www.ystmusic.nus.edu.sg
X-WR-CALDESC:Events for YST Conservatory
REFRESH-INTERVAL;VALUE=DURATION:PT1H
X-Robots-Tag:noindex
X-PUBLISHED-TTL:PT1H
BEGIN:VTIMEZONE
TZID:Asia/Singapore
BEGIN:STANDARD
TZOFFSETFROM:+0800
TZOFFSETTO:+0800
TZNAME:+08
DTSTART:20200101T000000
END:STANDARD
END:VTIMEZONE
BEGIN:VEVENT
DTSTART;TZID=Asia/Singapore:20210426T161500
DTEND;TZID=Asia/Singapore:20210426T181500
DTSTAMP:20260416T153008
CREATED:20210222T174254Z
LAST-MODIFIED:20210422T093909Z
UID:14428-1619453700-1619460900@www.ystmusic.nus.edu.sg
SUMMARY:Senior Recitals: Flute
DESCRIPTION:4:15 PM TIEN YA-LI (B.Mus4)\, fluteMATTHEW MAK\, piano \nPROGRAMME \nKARG ELERTSonata Appassionata \nCARL NIELSENFlute Concerto\, FS 119I. Allegro moderatoII. Allegretto un poco \n– Intermission (10 mins) –  \nWOLFGANG AMADEUS MOZARTRondo in G major for Flute \nLUCIANO BERIOSequenza I \nANDRÉ JOLIVETChant de Linos  \nProgramme Booklet \n\n5:15 PM SEE RUI YANG (B.Mus4)\, fluteMATTHEW MAK\, piano \nPROGRAMME \nGEORG PHILIPP TELEMANN12 Fantasies for Solo Flute\, No. 11 G major\, TWV 40:12 \nANDRÉ JOLIVETFlute ConcertoI. Andante CantabileII. Allegro ScherzandoIII. LargoIV. Allegro Risoluto \n– Intermission (10 mins) – \nFRANZ SCHUBERTVariations on “Trockne Blumen” for Flute and Piano\, Op. post. 160 D802 4 \nFRANCOIS BORNEFantaisie Brilliante on Themes from Bizet’s Carmen \nProgramme Booklet  \n\nABOUT THIS EVENT \nAs part of their graduation requirements for music performance\, 4th year YST Conservatory students present an hour long recitals. \nThis event will be livestreamed on the Conservatory’s YouTube channel. Follow and subscribe to be notified of upcoming streams. \nSubscribe to YST’s mailing list. \nTICKETING INFORMATION  \n• Due to COVID-19 related guidelines\, this performance will only be offered virtually. • All event information is correct at time of print.
URL:https://www.ystmusic.nus.edu.sg/event/senior-recitals-flute230421/
LOCATION:Conservatory Concert Hall\, Yong Siew Toh Conservatory of Music\, 3 Conservatory Drive\, 117376\, Singapore
ATTACH;FMTTYPE=image/jpeg:https://www.ystmusic.nus.edu.sg/wp-content/uploads/2021/02/yali.jpg
END:VEVENT
END:VCALENDAR