BEGIN:VCALENDAR
VERSION:2.0
PRODID:-//YST Conservatory - ECPv6.15.17//NONSGML v1.0//EN
CALSCALE:GREGORIAN
METHOD:PUBLISH
X-WR-CALNAME:YST Conservatory
X-ORIGINAL-URL:https://www.ystmusic.nus.edu.sg
X-WR-CALDESC:Events for YST Conservatory
REFRESH-INTERVAL;VALUE=DURATION:PT1H
X-Robots-Tag:noindex
X-PUBLISHED-TTL:PT1H
BEGIN:VTIMEZONE
TZID:Asia/Singapore
BEGIN:STANDARD
TZOFFSETFROM:+0800
TZOFFSETTO:+0800
TZNAME:+08
DTSTART:20180101T000000
END:STANDARD
END:VTIMEZONE
BEGIN:VEVENT
DTSTART;TZID=Asia/Singapore:20190423T130000
DTEND;TZID=Asia/Singapore:20190423T130000
DTSTAMP:20260425T194209
CREATED:20191119T014103Z
LAST-MODIFIED:20191119T014401Z
UID:7187-1556024400-1556024400@www.ystmusic.nus.edu.sg
SUMMARY:Senior Recital: Piano\, Voice & Percussion
DESCRIPTION:1:00pmZHENG MINGEN\, piano \nPROGRAMME \nBEETHOVENPiano Sonata No. 30 in E major\, Op. 109 I. Vivace na non troppo. Adagio espressivoII. Prestissimo III. Gesangvoll\, mit innigster Empfindung. Andante molto cantabile ed espressivo \nCHOPINAndante Spianato and Grande Polonaise Brillante in E-flat major Op. 22 \nRAVELLe Tombeau de CouperinI. Prélude. VifII. Fugue. Allegro moderatoV. Menuet. Allegro moderatoVI. Toccata. Vif \nDOWNLOAD PROGRAMME NOTES \n\n2:00pmZHUANG YALIN\, piano \nPROGRAMME \nPROKOFIEV6 pieces for piano\, Op. 52 I. Intermezzo II. RondoIII. EtudeIV. ScherzinoV. Andante VI. Scherzo \n– Intermission (5 minutes) \nLUDWIG VAN BEETHOVEN32 Variations in C minor\, WoO 80 \nFREFERIC CHOPINScherzo No. 2 in B-flat minor\, Op. 31 \nDownload Programme Notes4:00pmBAEK JONGWOO\, voiceCHOI HYE SEON/ADRIANA CHIEW\, piano \nPROGRAMME \nBARBERVanessaAria. Outside this house \nBUTTERWORTHA Shropshire LadLook not in my eyes \nFINZIA Young Man’s ExhortationDitty \nQUILTERLove’s Philosophy \nMOZARTMagic FluteAria. Dies Bildnis ist bezaubernd schön \nSCHUBERTWinterreiseErstarrung \nWOLFMörike LiederSchlafendes Jesuskind \nSCHUBERTAbendbilder \nGOUNODRoméo et JulietteRecit. L’amour! L’amour! Aria. Ah! Leve-toi soleil \nDUPARCPhidylé \nDEBUSSYBeau soir \nVERDILa TraviataRecit. Lunge da lei Aria. De miei bollenti spiriti \nTOSTIIdeale \nBEETHOVENIn questa tomba oscura \nROSSINILa Danza \nDownload Programme Notes \n\n5:00pm:LU PEI-YUN\, mezzo-sopranoCHOI HYE SEON/SHAYNA YAP\, pianoJUN-TING WEI (B.MUS4)\, violaLIM JING JIE (B.MUS3)\, baritonePRISCILLA FONG SUE TING (B.MUS2)\, host \nPROGRAMME \nBRAHMSZwei Gesänge\, Op. 91I. Gestillte SehnsuchtII. Geistliches Wiegenlied \nARGENTOFrom Casa GuidiCasa GuidiDomesticity \nWALTONThe BearRecitative: In that case you can tell me who is more faithful and constant in love?Aria: I was a constant\, faithful wifeDuet: Sir\, in my solitude \nROSSINIOtelloAssisa a piè d’un salice…Deh! Calma\, o ciel\, nel sonno \nBIZETCarmenHabaneraPrès des remparts de SevilleLes tringles des sistres tintaient \nDownload Programme Notes \n\n7:00pm:CHAIYAPHAT PREMPREE\, percussionTEO LI CHIN\, pianoLU PEI-HSIEN (B.MUS3-percussion)\, pianoLEE CHAEYEONG (B.MUS2)\, percussion \nPROGRAMME \nLEANDER-KAISERHurricane’s Eye \nSTANLEY LEONARDCanticleMovement I \nJOSEPH TOMPKINSMarch \nDENNIS KUHNRudi(‘S) Mental Faux Pas \n-Intermission (6 minutes)- \nDAVID REEVESSend & Receive \nJOSEPH SCHWANTNERPercussion concerto \nDownload Programme Notes \n\n8:00pm:XU XINYI\, percussionTEO LI CHIN\, pianoCHAIYAPHAT PREMPREE (B.MUS4)\, percussionLU PEI-HSIEN (B.MUS3)\, percussionLEE YURU (B.MUS2)\, percussionLEE CHAEYEONG (B.MUS2)\, percussion \nPROGRAMME \nELLIOT CARTERV. Improvisation \nNEY ROSAUROPrelúdio No. 1 in E minor \nJACQUES DELECLUSEEtude No. 6 from “Douze Etude” \nWILLIAM KRAFTFrench Suite for percussion soloI. AllemandeII. CouranteIII. SarabandIV. Gigue \nJOHANN SEBASTIAN BACHCello Suite No. 1 in G majorI. Prelude \n-Intermission (10 minutes)- \nBELLA FLECK arr. DAVID STEINQUESTMetric Lips \nNEY ROSAUROConcerto for Marimba and Orchestra No. 1I. GreetingsIV. Farewell \nSIEGFRIED FINKToccata \nKEIKO ABESong of the Seashore \nDownload Programme Notes \nTICKETING INFORMATION \n• Free admission.• All event information is correct at time of print.• Out of respect for other concertgoers\, no children under 6 years of age will be allowed admission.
URL:https://www.ystmusic.nus.edu.sg/event/senior-recital-piano-voice-percussion/
LOCATION:Conservatory Concert Hall\, Yong Siew Toh Conservatory of Music\, 3 Conservatory Drive\, 117376\, Singapore
ATTACH;FMTTYPE=image/jpeg:https://www.ystmusic.nus.edu.sg/wp-content/uploads/2019/11/042319-senior-recital-piano-voice-percussion.jpg
END:VEVENT
END:VCALENDAR