BEGIN:VCALENDAR
VERSION:2.0
PRODID:-//YST Conservatory - ECPv6.15.17//NONSGML v1.0//EN
CALSCALE:GREGORIAN
METHOD:PUBLISH
X-WR-CALNAME:YST Conservatory
X-ORIGINAL-URL:https://www.ystmusic.nus.edu.sg
X-WR-CALDESC:Events for YST Conservatory
REFRESH-INTERVAL;VALUE=DURATION:PT1H
X-Robots-Tag:noindex
X-PUBLISHED-TTL:PT1H
BEGIN:VTIMEZONE
TZID:Asia/Singapore
BEGIN:STANDARD
TZOFFSETFROM:+0800
TZOFFSETTO:+0800
TZNAME:+08
DTSTART:20200101T000000
END:STANDARD
END:VTIMEZONE
BEGIN:VEVENT
DTSTART;TZID=Asia/Singapore:20210427T140000
DTEND;TZID=Asia/Singapore:20210427T150000
DTSTAMP:20260423T054948
CREATED:20210222T175002Z
LAST-MODIFIED:20210421T155320Z
UID:14434-1619532000-1619535600@www.ystmusic.nus.edu.sg
SUMMARY:Senior Recital: French Horn
DESCRIPTION:2:00 PM SIM YUN HENG JABEN (B.Mus4)\, hornLUKE CHONG KHI SIAN (B.Mus3)\, hornNICHOLAS LOH\, piano \nPROGRAMME \nHERMANN NEULINGBagatelle for Low Horn and Piano \nGIOVANNI PUNTOHorn Concerto No. 5 I. Allegro Moderato II. Andante III. Rondeau en Chasse \n– Intermission (10 mins) – \nRICHARD BISSILLTime and Space for 2 Horns and Piano \nFRANZ STRAUSSFantasie uber den Sehnsuchtswaltzer von Schubert\, Op. 2 \nProgramme Booklet \n\nABOUT THIS EVENT \nAs part of their graduation requirements for music performance\, 4th year YST Conservatory students present an hour long recitals. \nThis event will be livestreamed on the Conservatory’s YouTube channel. Follow and subscribe to be notified of upcoming streams. \nSubscribe to YST’s mailing list. \nTICKETING INFORMATION  \n• Due to COVID-19 related guidelines\, this performance will only be offered virtually. • All event information is correct at time of print.
URL:https://www.ystmusic.nus.edu.sg/event/senior-recital-horn270421/
LOCATION:Conservatory Concert Hall\, Yong Siew Toh Conservatory of Music\, 3 Conservatory Drive\, 117376\, Singapore
ATTACH;FMTTYPE=image/jpeg:https://www.ystmusic.nus.edu.sg/wp-content/uploads/2021/02/Jaben.jpg
END:VEVENT
END:VCALENDAR