BEGIN:VCALENDAR
VERSION:2.0
PRODID:-//YST Conservatory - ECPv6.15.17//NONSGML v1.0//EN
CALSCALE:GREGORIAN
METHOD:PUBLISH
X-WR-CALNAME:YST Conservatory
X-ORIGINAL-URL:https://www.ystmusic.nus.edu.sg
X-WR-CALDESC:Events for YST Conservatory
REFRESH-INTERVAL;VALUE=DURATION:PT1H
X-Robots-Tag:noindex
X-PUBLISHED-TTL:PT1H
BEGIN:VTIMEZONE
TZID:Asia/Singapore
BEGIN:STANDARD
TZOFFSETFROM:+0800
TZOFFSETTO:+0800
TZNAME:+08
DTSTART:20200101T000000
END:STANDARD
END:VTIMEZONE
BEGIN:VEVENT
DTSTART;TZID=Asia/Singapore:20210426T123000
DTEND;TZID=Asia/Singapore:20210426T133000
DTSTAMP:20260420T191717
CREATED:20210222T173826Z
LAST-MODIFIED:20210421T153537Z
UID:14424-1619440200-1619443800@www.ystmusic.nus.edu.sg
SUMMARY:Senior Recital: Harp
DESCRIPTION:12:30 PM NIGEL FOO SHI RONG (B.Mus4)\, harpTEO CHARMAINE (Class of 2018)\, harpPUALINA LIM MEI EN (B.Mus4)\, piano \nPROGRAMMEDOMENICO SCARLATTIKeyboard Sonatas\, K. 9 & K. 27 \nCLAUDE DEBUSSYDanse Sacrée et Danse Profane  \nMIKHAIL MCHEDELOVVariations on a theme of Paganini \n– Intermission (10 mins) – \nMARCEL GRANDJANYAria in Classic Style arr. 2 harps \nJEAN-MICHEL DAMASESonatine pour deux harpes I. Allegro II. Andante III. Presto \nProgramme Booklet \n\nABOUT THIS EVENT \nAs part of their graduation requirements for music performance\, 4th year YST Conservatory students present an hour long recitals. \nThis event will be livestreamed on the Conservatory’s YouTube channel. Follow and subscribe to be notified of upcoming streams. \nSubscribe to YST’s mailing list. \nTICKETING INFORMATION  \n• Due to COVID-19 related guidelines\, this performance will only be offered virtually. • All event information is correct at time of print.
URL:https://www.ystmusic.nus.edu.sg/event/senior-recital-harp260421/
LOCATION:Conservatory Concert Hall\, Yong Siew Toh Conservatory of Music\, 3 Conservatory Drive\, 117376\, Singapore
ATTACH;FMTTYPE=image/jpeg:https://www.ystmusic.nus.edu.sg/wp-content/uploads/2020/01/harp.jpg
END:VEVENT
END:VCALENDAR