BEGIN:VCALENDAR
VERSION:2.0
PRODID:-//YST Conservatory - ECPv6.15.17//NONSGML v1.0//EN
CALSCALE:GREGORIAN
METHOD:PUBLISH
X-WR-CALNAME:YST Conservatory
X-ORIGINAL-URL:https://www.ystmusic.nus.edu.sg
X-WR-CALDESC:Events for YST Conservatory
REFRESH-INTERVAL;VALUE=DURATION:PT1H
X-Robots-Tag:noindex
X-PUBLISHED-TTL:PT1H
BEGIN:VTIMEZONE
TZID:Asia/Singapore
BEGIN:STANDARD
TZOFFSETFROM:+0800
TZOFFSETTO:+0800
TZNAME:+08
DTSTART:20240101T000000
END:STANDARD
END:VTIMEZONE
BEGIN:VEVENT
DTSTART;TZID=Asia/Singapore:20250428T000000
DTEND;TZID=Asia/Singapore:20250428T235959
DTSTAMP:20260425T092712
CREATED:20250415T035657Z
LAST-MODIFIED:20250427T032703Z
UID:38402-1745798400-1745884799@www.ystmusic.nus.edu.sg
SUMMARY:Senior Recital: Flute Session
DESCRIPTION:2:20pm \nWEN TZU-LING (BMus4)\, flute MATTHEW MAK\, piano \nPROGRAMME \nJ.S BACH flute sonata in e minor\, bwv 1034 \nA. JOLIVET Chant de Linos \n– intermission 10 minutes – \nJ. RODRIGO Concierto pastoral \nProgramme Notes \n\n3:30pm \nJULIEN QUEK (BMus4)\, fluteMATTHEW MAK\, pianoGERALD TAN\, harpsichord \nPROGRAMME \nFRANK MARTIN (1890)Ballade for flute and piano (1939) \nJ.S BACH (1685)Sonate for flute and cembalo in e minor BWV 1034 (1717-23)I. Adagio ma non tantoII. AllegroIII. AndanteIV. Allegro \n– intermission 10 minutes – \nC. REINECKE (1824)Ballade for flute and piano Op.288 (1908) \nC. FRÜHLING (1868)Fantasie Op.55 \nProgramme Notes \n\n4:40pm \nWENG YI-CHIAN (BMus4)\, flute \nPROGRAMME \nL.BERIOSequenza I \nJ.S BACHFlute Sonata in B minor\, BWV 1030 \n– intermission 10 minutes – \nR.STRAUSSFlute Sonata in E-Flat Major\, Op. 18 \nProgramme Notes \n\nABOUT THIS PROGRAMME \nAs part of their graduation requirements for music performance\, 4th year YST Conservatory students present an hour-long recital.   \nSubscribe to YST’s mailing list. \nTICKETING INFORMATION \nFree Admission. \nOut of respect for the participants and other spectators\, no children under 6 years of age will be allowed admission. \n*All event information is correct at the time of print.
URL:https://www.ystmusic.nus.edu.sg/event/senior-recital-flute-session/
LOCATION:YST Concert Hall\, Yong Siew Toh Conservatory of Music\, 3 Conservatory Drive\, Singapore\, 117376\, Singapore
END:VEVENT
END:VCALENDAR