BEGIN:VCALENDAR
VERSION:2.0
PRODID:-//YST Conservatory - ECPv6.15.17//NONSGML v1.0//EN
CALSCALE:GREGORIAN
METHOD:PUBLISH
X-WR-CALNAME:YST Conservatory
X-ORIGINAL-URL:https://www.ystmusic.nus.edu.sg
X-WR-CALDESC:Events for YST Conservatory
REFRESH-INTERVAL;VALUE=DURATION:PT1H
X-Robots-Tag:noindex
X-PUBLISHED-TTL:PT1H
BEGIN:VTIMEZONE
TZID:Asia/Singapore
BEGIN:STANDARD
TZOFFSETFROM:+0800
TZOFFSETTO:+0800
TZNAME:+08
DTSTART:20200101T000000
END:STANDARD
END:VTIMEZONE
BEGIN:VEVENT
DTSTART;TZID=Asia/Singapore:20210426T190000
DTEND;TZID=Asia/Singapore:20210426T200000
DTSTAMP:20260416T153117
CREATED:20210222T174502Z
LAST-MODIFIED:20210421T155149Z
UID:14430-1619463600-1619467200@www.ystmusic.nus.edu.sg
SUMMARY:Senior Recital: Clarinet
DESCRIPTION:7:00 PM STEPHANIE TAN HUI MIN (B.Mus4)\, clarinet \nPROGRAMMEMAX BRUCH8 Pieces for Clarinet\, Viola and Piano Op. 83 I. AndanteIII. Andante con motoIV. Allegro agitatoV. Rumanische Melodie \nSTEPHANIE TAN HUI MIN (B.Mus4)\, clarinetHSU MIN JOELLE (B.Mus2)\, violaANG WENXI KENNIS (B.Mus3)\, piano \n– Intermission (5 mins) – \nJÖRG WIDMANNFantasie for solo clarinet \nSTEPHANIE TAN HUI MIN (B.Mus4)\, clarinet \nMICHELE MANGANIClarinet Sonata I. Allegro tristementesII. Andante dolcementeIII. Allegro con fuoco \nSTEPHANIE TAN HUI MIN (B.Mus4)\, clarinetBEATRICE LIN\, piano \nERIK CORRELL arranged and adapted by TOH YAN EE (B.Mus3)The Legend of Zelda – Ocarina of Time Medley\, Original Music by Koji Kondo  \nSTEPHANIE TAN HUI MIN (B.Mus4)\, clarinetNIGEL FOO SHI RONG (B.Mus4)\, harp \nProgramme Booklet \n\nABOUT THIS EVENT \nAs part of their graduation requirements for music performance\, 4th year YST Conservatory students present an hour long recitals. \nThis event will be livestreamed on the Conservatory’s YouTube channel. Follow and subscribe to be notified of upcoming streams. \nSubscribe to YST’s mailing list. \nTICKETING INFORMATION  \n• Due to COVID-19 related guidelines\, this performance will only be offered virtually. • All event information is correct at time of print.
URL:https://www.ystmusic.nus.edu.sg/event/senior-recital-clarinet260421/
LOCATION:Conservatory Concert Hall\, Yong Siew Toh Conservatory of Music\, 3 Conservatory Drive\, 117376\, Singapore
ATTACH;FMTTYPE=image/jpeg:https://www.ystmusic.nus.edu.sg/wp-content/uploads/2021/02/Stephanie.jpg
END:VEVENT
END:VCALENDAR