BEGIN:VCALENDAR
VERSION:2.0
PRODID:-//YST Conservatory - ECPv6.15.17//NONSGML v1.0//EN
CALSCALE:GREGORIAN
METHOD:PUBLISH
X-WR-CALNAME:YST Conservatory
X-ORIGINAL-URL:https://www.ystmusic.nus.edu.sg
X-WR-CALDESC:Events for YST Conservatory
REFRESH-INTERVAL;VALUE=DURATION:PT1H
X-Robots-Tag:noindex
X-PUBLISHED-TTL:PT1H
BEGIN:VTIMEZONE
TZID:Asia/Singapore
BEGIN:STANDARD
TZOFFSETFROM:+0800
TZOFFSETTO:+0800
TZNAME:+08
DTSTART:20250101T000000
END:STANDARD
END:VTIMEZONE
BEGIN:VEVENT
DTSTART;TZID=Asia/Singapore:20260505T140000
DTEND;TZID=Asia/Singapore:20260505T161000
DTSTAMP:20260421T015426
CREATED:20260420T011043Z
LAST-MODIFIED:20260420T011043Z
UID:44123-1777989600-1777997400@www.ystmusic.nus.edu.sg
SUMMARY:Senior Recital: Violin Session II
DESCRIPTION:PROGRAMME \n2.00PM RENEE TOH (BMus4) \nJOHANNES BRAHMSViolin Sonata No. 3 in D minor \nRENEE TOH\, violinCHERIE KHOR\, piano \nFELIX MENDELSSOHNViolin Sonata in F Major\, MWV Q7 \nRENEE TOH\, violinCHERIE KHOR\, piano \nAMY BEACHRomance Op 23 \nRENEE TOH\, violinCHERIE KHOR\, piano \n  \n3.10PM TSAO WEI-CHUN (BMus4) \nJOHANNES BRAHMSViolin Sonata No. 1 in G major Op.78I. Vivace ma non troppoII. AdagioIII. Allegro molto moderato \nTSAO WEI CHUN\, violinGE XIAOZHE\, piano \nEUGÈNE YSAŸE Sonata No.3 in D minor\, Ballade Op.27 \nTSAO WEI CHUN\, violin \nAMY BEACHRomance for Violin and Piano\, Op.23 \nTSAO WEI CHUN\, violinGE XIAOZHE\, piano \nHENRYK WIENIAWSKIVariations on an original theme Op.15 \nTSAO WEI CHUN\, violinGE XIAOZHE\, piano \nProgramme Notes \n  \n\nABOUT THIS PROGRAMME \nAs part of their graduation requirements for music performance\, 4th year YST Conservatory students present an hour long recital. \nSubscribe to YST’s mailing list. \nTICKETING INFORMATION \nFree Admission. \nOut of respect for the participants and other spectators\, no children under 6 years of age will be allowed admission. \n*All event information is correct at the time of print.
URL:https://www.ystmusic.nus.edu.sg/event/senior-recital-2526s2-violin-session-ii/
LOCATION:YST Concert Hall\, Yong Siew Toh Conservatory of Music\, 3 Conservatory Drive\, Singapore\, 117376\, Singapore
END:VEVENT
END:VCALENDAR