BEGIN:VCALENDAR
VERSION:2.0
PRODID:-//YST Conservatory - ECPv6.15.17//NONSGML v1.0//EN
CALSCALE:GREGORIAN
METHOD:PUBLISH
X-WR-CALNAME:YST Conservatory
X-ORIGINAL-URL:https://www.ystmusic.nus.edu.sg
X-WR-CALDESC:Events for YST Conservatory
REFRESH-INTERVAL;VALUE=DURATION:PT1H
X-Robots-Tag:noindex
X-PUBLISHED-TTL:PT1H
BEGIN:VTIMEZONE
TZID:Asia/Singapore
BEGIN:STANDARD
TZOFFSETFROM:+0800
TZOFFSETTO:+0800
TZNAME:+08
DTSTART:20250101T000000
END:STANDARD
END:VTIMEZONE
BEGIN:VEVENT
DTSTART;TZID=Asia/Singapore:20260504T143000
DTEND;TZID=Asia/Singapore:20260504T175000
DTSTAMP:20260421T070748
CREATED:20260420T011045Z
LAST-MODIFIED:20260420T011045Z
UID:44112-1777905000-1777917000@www.ystmusic.nus.edu.sg
SUMMARY:Senior Recital: Viola Session
DESCRIPTION:PROGRAMME \n2.30PM PAO YU-LIN (BMus4) \nBARTOKViola ConcertoI. ModeratoII. Adagio religiosoIII. Allegro vivace \n– 10 minute intermission – \nBACHCello Suites No.6 Prelude \nBOWENPhantasy for Viola and Piano\, Op.54 \nPAO YU-LIN\, violaLIU JIA\, piano \nProgramme Notes \n  \n3.40PM XIAO LEI (BMus4) \nXIAO LEI\, violaLIU JIA\, piano \nWILLIAM WALTONViola Concerto \nSERGEI PROKOFIEVRomeo and JulietI. IntroductionII. The Street AwakensIII. Juliet as a Young GirlIV. Dance of the Knights \nGABRIEL FAURÉSicilienne\, Op. 78 \n  \n4.50PM LIU WEI-JIA (BMus4) \nJ.S. BACHCello Suite No.2 in D minor Arr. for Viola I. Prelude II. Allemande III. Courante IV. Sarabande V. Menuetto1 Menuetto2 VI. Gigue \nBARTOK Viola Concerto I. Moderato II. Adagio religioso III. Allegro vivace \n  \n\nABOUT THIS PROGRAMME \nAs part of their graduation requirements for music performance\, 4th year YST Conservatory students present an hour long recital. \nSubscribe to YST’s mailing list. \nTICKETING INFORMATION \nFree Admission. \nOut of respect for the participants and other spectators\, no children under 6 years of age will be allowed admission. \n*All event information is correct at the time of print.
URL:https://www.ystmusic.nus.edu.sg/event/senior-recital-2526s2-viola/
LOCATION:YST Concert Hall\, Yong Siew Toh Conservatory of Music\, 3 Conservatory Drive\, Singapore\, 117376\, Singapore
END:VEVENT
END:VCALENDAR