BEGIN:VCALENDAR
VERSION:2.0
PRODID:-//YST Conservatory - ECPv6.15.17//NONSGML v1.0//EN
CALSCALE:GREGORIAN
METHOD:PUBLISH
X-WR-CALNAME:YST Conservatory
X-ORIGINAL-URL:https://www.ystmusic.nus.edu.sg
X-WR-CALDESC:Events for YST Conservatory
REFRESH-INTERVAL;VALUE=DURATION:PT1H
X-Robots-Tag:noindex
X-PUBLISHED-TTL:PT1H
BEGIN:VTIMEZONE
TZID:Asia/Singapore
BEGIN:STANDARD
TZOFFSETFROM:+0800
TZOFFSETTO:+0800
TZNAME:+08
DTSTART:20250101T000000
END:STANDARD
END:VTIMEZONE
BEGIN:VEVENT
DTSTART;TZID=Asia/Singapore:20260502T134000
DTEND;TZID=Asia/Singapore:20260502T144000
DTSTAMP:20260421T112357
CREATED:20260420T011048Z
LAST-MODIFIED:20260420T011048Z
UID:44101-1777729200-1777732800@www.ystmusic.nus.edu.sg
SUMMARY:Senior Recital: Tuba Session
DESCRIPTION:PROGRAMME \n1.40PM YANG JUNXIANG (BMus4) \nMALCOLM ARNOLDFantasy for Tuba Op.102 \nYANG JUNXIANG\, tuba \nJAN KOETSIERSonatina per tuba e pianoforte Op.57I AllegroII Tempo di minuettoIII Allegro moderato \nYANG JUNXIANG\, tubaBEATRICE LIN\, piano \nVLADISLAV BLAZHEVICHSolo etude \nYANG JUNXIANG\, tubaBEATRICE LIN\, piano \nDAVID UBERDouble Portraits for Trombone and TubaI Times SquareII TwilightIII The City Awakes \nYANG JUNXIANG\, tubaONG AUN GUAN\, trombone \n– 10 minute intermission – \nBARBARA YORKConcerto for Tuba and Orchestra Wars and Rumors WarI Allegro marcatoII TranquilloIII Allegro furioso \nYANG JUNXIANG\, tubaBEATRICE LIN\, piano \n  \n\n  \nABOUT THIS PROGRAMME \nAs part of their graduation requirements for music performance\, 4th year YST Conservatory students present an hour long recital. \nSubscribe to YST’s mailing list. \nTICKETING INFORMATION \nFree Admission. \nOut of respect for the participants and other spectators\, no children under 6 years of age will be allowed admission. \n*All event information is correct at the time of print.
URL:https://www.ystmusic.nus.edu.sg/event/senior-recital-2526s2-tuba/
LOCATION:YST Concert Hall\, Yong Siew Toh Conservatory of Music\, 3 Conservatory Drive\, Singapore\, 117376\, Singapore
END:VEVENT
END:VCALENDAR