BEGIN:VCALENDAR
VERSION:2.0
PRODID:-//YST Conservatory - ECPv6.15.17//NONSGML v1.0//EN
CALSCALE:GREGORIAN
METHOD:PUBLISH
X-WR-CALNAME:YST Conservatory
X-ORIGINAL-URL:https://www.ystmusic.nus.edu.sg
X-WR-CALDESC:Events for YST Conservatory
REFRESH-INTERVAL;VALUE=DURATION:PT1H
X-Robots-Tag:noindex
X-PUBLISHED-TTL:PT1H
BEGIN:VTIMEZONE
TZID:Asia/Singapore
BEGIN:STANDARD
TZOFFSETFROM:+0800
TZOFFSETTO:+0800
TZNAME:+08
DTSTART:20250101T000000
END:STANDARD
END:VTIMEZONE
BEGIN:VEVENT
DTSTART;TZID=Asia/Singapore:20260429T140000
DTEND;TZID=Asia/Singapore:20260429T173000
DTSTAMP:20260421T135935
CREATED:20260420T011052Z
LAST-MODIFIED:20260420T011052Z
UID:44071-1777471200-1777483800@www.ystmusic.nus.edu.sg
SUMMARY:Senior Recital: Piano Session
DESCRIPTION:PROGRAMME \n2.00PM CHAKRIT KHANONVEJ (Bmus4) \nL.VAN. BEETHOVENSonata no.28 in A major\, op.101I. Etwas lebhaft und mit der innigsten Empfindung. Allegretto ma non troppoll. Lebhaft. Marschmäßig. Vivace alla marciaIII. Langsam und sehnsuchtsvoll.Adagio\, ma non troppo\, con affettoIV. Geschwind\, doch nicht zu sehr\, und mit Entschlossent \nR. SCHUMANNSonata no.1 in F sharp minor\, op.11I.Introduzione. Un poco Adagio – Allegro vivaceII.AriaIII.Scherzo e IntermezzoIV. Finale. Allegro un poco maestoso \nN. KAPUSTINVariations op.41 \nProgramme Notes \n  \n3.10PM CHAI ZI QING (Bmus4) \nROBERT SCHUMANNDavidsbündlertänze\, Op. 6 \nMAURICE RAVELGaspard de la nuit\, M. 55I. OndineII. Le GibetIII. Scarbo \nProgramme Notes \n  \n4.30PM LIM ZHUO RUI DARRELL (Bmus4) \nL.VAN. BEETHOVENPiano Sonata No. 24 in F#\, Op. 78I. Adagio cantabile – Allegro ma non troppo II. Allegro vivace \nWILLIAM BOLCOM9 Bagatelles \n– 10 minute intermission – \nFRANZ LISZT3 Sonetto del Petrarca \nLISZT/GOUNODValse de l’opéra Faust \nProgramme Notes \n\n  \nABOUT THIS PROGRAMME \nAs part of their graduation requirements for music performance\, 4th year YST Conservatory students present an hour long recital. \nSubscribe to YST’s mailing list. \nTICKETING INFORMATION \nFree Admission. \nOut of respect for the participants and other spectators\, no children under 6 years of age will be allowed admission. \n*All event information is correct at the time of print.
URL:https://www.ystmusic.nus.edu.sg/event/senior-recital-2526s2-piano/
LOCATION:YST Concert Hall\, Yong Siew Toh Conservatory of Music\, 3 Conservatory Drive\, Singapore\, 117376\, Singapore
END:VEVENT
END:VCALENDAR