BEGIN:VCALENDAR
VERSION:2.0
PRODID:-//YST Conservatory - ECPv6.15.17//NONSGML v1.0//EN
CALSCALE:GREGORIAN
METHOD:PUBLISH
X-WR-CALNAME:YST Conservatory
X-ORIGINAL-URL:https://www.ystmusic.nus.edu.sg
X-WR-CALDESC:Events for YST Conservatory
REFRESH-INTERVAL;VALUE=DURATION:PT1H
X-Robots-Tag:noindex
X-PUBLISHED-TTL:PT1H
BEGIN:VTIMEZONE
TZID:Asia/Singapore
BEGIN:STANDARD
TZOFFSETFROM:+0800
TZOFFSETTO:+0800
TZNAME:+08
DTSTART:20250101T000000
END:STANDARD
END:VTIMEZONE
BEGIN:VEVENT
DTSTART;TZID=Asia/Singapore:20260427T142000
DTEND;TZID=Asia/Singapore:20260427T152000
DTSTAMP:20260420T143004
CREATED:20260420T011056Z
LAST-MODIFIED:20260420T011056Z
UID:44053-1777299600-1777303200@www.ystmusic.nus.edu.sg
SUMMARY:Senior Recital: Percussion Session
DESCRIPTION:PROGRAMME \n2.20PM LAI JO-WEI (BMus4) \nEMMANUEL SEJOURNEMarimba concerto with strings \nLAI JO WEI\, marimbaHUANG SHAO WEI\, conductor \n10 minute intermission \nNEBOJŠA JOVAN ŽIVKOVIĆSuomineito \nJOHN PSATHASAtalanta \nLAI JO WEI\, vibraphone \nÁSKELL MÁSSONKím \nLAI JO WEI\, snare drum \nCASEY CANGELOSIA Cool Gadget for Tambourine \nLAI JO WEI\, tambourine \n\n  \nABOUT THIS PROGRAMME \nAs part of their graduation requirements for music performance\, 4th year YST Conservatory students present an hour long recital. \nSubscribe to YST’s mailing list. \nTICKETING INFORMATION \nFree Admission. \nOut of respect for the participants and other spectators\, no children under 6 years of age will be allowed admission. \n*All event information is correct at the time of print.
URL:https://www.ystmusic.nus.edu.sg/event/senior-recital-2526s2-percussion/
LOCATION:YST Concert Hall\, Yong Siew Toh Conservatory of Music\, 3 Conservatory Drive\, Singapore\, 117376\, Singapore
END:VEVENT
END:VCALENDAR