BEGIN:VCALENDAR
VERSION:2.0
PRODID:-//YST Conservatory - ECPv6.15.17//NONSGML v1.0//EN
CALSCALE:GREGORIAN
METHOD:PUBLISH
X-WR-CALNAME:YST Conservatory
X-ORIGINAL-URL:https://www.ystmusic.nus.edu.sg
X-WR-CALDESC:Events for YST Conservatory
REFRESH-INTERVAL;VALUE=DURATION:PT1H
X-Robots-Tag:noindex
X-PUBLISHED-TTL:PT1H
BEGIN:VTIMEZONE
TZID:Asia/Singapore
BEGIN:STANDARD
TZOFFSETFROM:+0800
TZOFFSETTO:+0800
TZNAME:+08
DTSTART:20250101T000000
END:STANDARD
END:VTIMEZONE
BEGIN:VEVENT
DTSTART;TZID=Asia/Singapore:20260427T175000
DTEND;TZID=Asia/Singapore:20260427T185000
DTSTAMP:20260420T143521
CREATED:20260420T011054Z
LAST-MODIFIED:20260420T011054Z
UID:44061-1777312200-1777315800@www.ystmusic.nus.edu.sg
SUMMARY:Senior Recital: Oboe Session
DESCRIPTION:PROGRAMME \n5.50PM REYNARD ARDIAN SIMANJUNTAK (BMus4) \nGEORG FRIEDRICH HÄNDELSonata for Oboe and Basso Continuo\, HWV366I. LargoII. AllegroIII. AdagioIV. Bourrée anglaise – Allegro \nBOHUSLAV MARTINŮConcerto for Oboe and Small Orchestra\, H.353I. ModeratoII. Poco AndanteIII. Poco Allegro \nREYNARD ARDIAN SIMANJUNTAK\, oboeMATTHEW MAK\, piano \n– 10 minute intermission – \nANTONIO PASCULLIOmaggio a Bellini for English Horn and Piano \nREYNARD ARDIAN SIMANJUNTAK\, oboeMATTHEW MAK\, piano \nREYNARD ARDIAN SIMANJUNTAKBittersweet and Fleeting\, Op. 18Concerto for Oboe with Double-Reed Septet and OrchestraArranged for Oboe and Piano by Jellal KoayI. Allegro scherzandoII. TranquilloIII. Allegro \n  \n\n  \nABOUT THIS PROGRAMME \nAs part of their graduation requirements for music performance\, 4th year YST Conservatory students present an hour long recital. \nSubscribe to YST’s mailing list. \nTICKETING INFORMATION \nFree Admission. \nOut of respect for the participants and other spectators\, no children under 6 years of age will be allowed admission. \n*All event information is correct at the time of print.
URL:https://www.ystmusic.nus.edu.sg/event/senior-recital-2526s2-oboe/
LOCATION:YST Concert Hall\, Yong Siew Toh Conservatory of Music\, 3 Conservatory Drive\, Singapore\, 117376\, Singapore
END:VEVENT
END:VCALENDAR