BEGIN:VCALENDAR
VERSION:2.0
PRODID:-//YST Conservatory - ECPv6.15.17//NONSGML v1.0//EN
CALSCALE:GREGORIAN
METHOD:PUBLISH
X-WR-CALNAME:YST Conservatory
X-ORIGINAL-URL:https://www.ystmusic.nus.edu.sg
X-WR-CALDESC:Events for YST Conservatory
REFRESH-INTERVAL;VALUE=DURATION:PT1H
X-Robots-Tag:noindex
X-PUBLISHED-TTL:PT1H
BEGIN:VTIMEZONE
TZID:Asia/Singapore
BEGIN:STANDARD
TZOFFSETFROM:+0800
TZOFFSETTO:+0800
TZNAME:+08
DTSTART:20250101T000000
END:STANDARD
END:VTIMEZONE
BEGIN:VEVENT
DTSTART;TZID=Asia/Singapore:20260504T104000
DTEND;TZID=Asia/Singapore:20260504T125000
DTSTAMP:20260421T125414
CREATED:20260420T011046Z
LAST-MODIFIED:20260420T011046Z
UID:44109-1777891200-1777899000@www.ystmusic.nus.edu.sg
SUMMARY:Senior Recital: Horn Session
DESCRIPTION:PROGRAMME \n  \n10.40AM GAO XIAOXUAN (BMus4) \nOLIVIER MESSIAENAppel interstellaire (from Des canyons aux étoiles…) \nGAO XIAOXUAN\, horn \nRICHARD STRAUSSAndante in C major for Horn and Piano\, TrV 155 \nGAO XIAOXUAN\, hornNICHOLAS LOH\, piano \nWOLFGANG AMADEUS MOZARTConcert Rondo in E-flat major for Horn and Piano\, K. 371 \nGAO XIAOXUAN\, hornNICHOLAS LOH\, piano \n–  10 minute intermission – \nCARL MARIA VON WEBERConcertino in E-flat major for Horn and Orchestra\, Op. 45 \nGAO XIAOXUAN\, hornNICHOLAS LOH\, piano \nKERRY TURNERCasbah of Tetouan \nGAO XIAOXUAN\, hornPOPETORN BUANGAM\, hornLUO TIANHAO\, hornZHANG XINYAN\, hornHARSHARON KAUR\, horn \n  \n11.50AM YEN SHIH-HSIN (BMus4) \nCHARLES GOUNOD Six Melodiques for Horn and Piano No. VI \nYEN SHIH-HSIN\, hornNICHOLAS LOH\, piano \nRICHARD STRAUSS Horn Concerto No. 2 in E-flat MajorI. AllegroII. Andante con motoIII. Rondo\, Allegro molto \nYEN SHIH-HSIN\, hornNICHOLAS LOH\, piano \nVITALY BUYANOVSKY“España” from Four Improvisations (from Traveling Impressions) \nYEN SHIH-HSIN\, horn \nMICHAEL HAYDNConcerto for Two Horns in E-flat Major\, Hob. VIId:2I. Allegro maestosoII. Romance\, AdagioIII. Rondo\, Allegretto \nYEN SHIH-HSIN\, hornHARSHARON KAUR\, hornNICHOLAS LOH\, piano \nABOUT THIS PROGRAMME \nAs part of their graduation requirements for music performance\, 4th year YST Conservatory students present an hour long recital. \nSubscribe to YST’s mailing list. \nTICKETING INFORMATION \nFree Admission. \nOut of respect for the participants and other spectators\, no children under 6 years of age will be allowed admission. \n*All event information is correct at the time of print.
URL:https://www.ystmusic.nus.edu.sg/event/senior-recital-2526s2-horn/
LOCATION:YST Concert Hall\, Yong Siew Toh Conservatory of Music\, 3 Conservatory Drive\, Singapore\, 117376\, Singapore
END:VEVENT
END:VCALENDAR