BEGIN:VCALENDAR
VERSION:2.0
PRODID:-//YST Conservatory - ECPv6.15.17//NONSGML v1.0//EN
CALSCALE:GREGORIAN
METHOD:PUBLISH
X-WR-CALNAME:YST Conservatory
X-ORIGINAL-URL:https://www.ystmusic.nus.edu.sg
X-WR-CALDESC:Events for YST Conservatory
REFRESH-INTERVAL;VALUE=DURATION:PT1H
X-Robots-Tag:noindex
X-PUBLISHED-TTL:PT1H
BEGIN:VTIMEZONE
TZID:Asia/Singapore
BEGIN:STANDARD
TZOFFSETFROM:+0800
TZOFFSETTO:+0800
TZNAME:+08
DTSTART:20250101T000000
END:STANDARD
END:VTIMEZONE
BEGIN:VEVENT
DTSTART;TZID=Asia/Singapore:20260427T113000
DTEND;TZID=Asia/Singapore:20260427T123000
DTSTAMP:20260420T143553
CREATED:20260420T011123Z
LAST-MODIFIED:20260420T011123Z
UID:44073-1777289400-1777293000@www.ystmusic.nus.edu.sg
SUMMARY:Senior Recital: Harp Session
DESCRIPTION:PROGRAMME \n11.30AM VANESSA JAZZY WAHYUDY IRWANTO (BMus4) \nBACH (Arr. MARCEL GRANDJANY)Etude No. 2\,“Fugue” from Violin Sonata No. 1 \nBENJAMIN BRITTENSuite for Harp\, Op. 83I. OvertureII. ToccataIII. NocturneIV. FugueV. Hymne \n– 10 minute intermission – \nCARL REINECKEHarp Concerto\, Op. 182*I. Allegro ModeratoII. AdagioIII. Finale – Scherzo: Allegro Vivace \nMOSES GAY\, conductor and YST Orchestra \nProgramme Notes \n\n  \nABOUT THIS PROGRAMME \nAs part of their graduation requirements for music performance\, 4th year YST Conservatory students present an hour long recital. \nSubscribe to YST’s mailing list. \nTICKETING INFORMATION \nFree Admission. \nOut of respect for the participants and other spectators\, no children under 6 years of age will be allowed admission. \n*All event information is correct at the time of print.
URL:https://www.ystmusic.nus.edu.sg/event/senior-recital-2526s2-harp/
LOCATION:YST Concert Hall\, Yong Siew Toh Conservatory of Music\, 3 Conservatory Drive\, Singapore\, 117376\, Singapore
END:VEVENT
END:VCALENDAR