BEGIN:VCALENDAR
VERSION:2.0
PRODID:-//YST Conservatory - ECPv6.15.17//NONSGML v1.0//EN
CALSCALE:GREGORIAN
METHOD:PUBLISH
X-WR-CALNAME:YST Conservatory
X-ORIGINAL-URL:https://www.ystmusic.nus.edu.sg
X-WR-CALDESC:Events for YST Conservatory
REFRESH-INTERVAL;VALUE=DURATION:PT1H
X-Robots-Tag:noindex
X-PUBLISHED-TTL:PT1H
BEGIN:VTIMEZONE
TZID:Asia/Singapore
BEGIN:STANDARD
TZOFFSETFROM:+0800
TZOFFSETTO:+0800
TZNAME:+08
DTSTART:20190101T000000
END:STANDARD
END:VTIMEZONE
BEGIN:VEVENT
DTSTART;TZID=Asia/Singapore:20200306T193000
DTEND;TZID=Asia/Singapore:20200306T193000
DTSTAMP:20260415T131209
CREATED:20200102T091435Z
LAST-MODIFIED:20200210T103718Z
UID:8498-1583523000-1583523000@www.ystmusic.nus.edu.sg
SUMMARY:[CANCELLED] Rituals and the Eternal
DESCRIPTION:In view of current health and travel advisories\, this event has been cancelled. We apologise for any inconvenience caused. \nFor more information on the status of YST events\, please visit: bit.ly/yst-updates \nCONSERVATORY ORCHESTRA YST VOICE STUDENTS JASON LAI\, conductor MARC ROCHESTER\, organ CHERILYN WOO\, stage director MERVIN WONG\, production & multimedia design \nPROGRAMME \nMOZART Selections from Die Zauberflöte \nAct 1 QuintetAct 2 Finale \nClick here for Cast List \n– Intermission (20-minutes) – \nMESSIAEN The Celestial Banquet \nNIELSEN Symphony No. 4\, “The Inextinguishable” \nI. Allegro –II. Poco allegretto –III. Poco adagio quasi andante –IV. Allegro \nABOUT THIS EVENTA trio of works centred on the rituals and celebrations of life. Experience a contemplation of temporal stillness in Messiaen’s Le Banquet Céleste\, and an exaltation of life with Nielsen’s “The Inextinguishable”. Explore a playful take on man’s quest for love\, virtue and wisdom in a realm filled with ritual and symbolism\, through numbers from Mozart’s masterpiece: Die Zauberflöte. \nProgramme Notes \nVenue supported by: \n  \nTICKETING INFORMATION • Tickets at $10 via Eventbrite. • All event information is correct at time of print. • Out of respect for other concertgoers\, no children under 6 years of age will be allowed admission.
URL:https://www.ystmusic.nus.edu.sg/event/rituals-eternal-vch/
LOCATION:Victoria Concert Hall\, Victoria Concert Hall\, 9 Empress Pl\, 179556\, Singapore
ATTACH;FMTTYPE=image/jpeg:https://www.ystmusic.nus.edu.sg/wp-content/uploads/2020/01/ritual.jpg
END:VEVENT
END:VCALENDAR